BEGIN:VCALENDAR
VERSION:2.0
PRODID:-//Events | FID-Recht//NONSGML Events//EN
CALSCALE:GREGORIAN
X-ORIGINAL-URL:https://events.intrecht.de/termine/
X-WR-CALDESC:Events | FID-Recht - Events
BEGIN:VEVENT
UID:20210921T1133Z-1632224035.5462-EO-4644-1@172.16.200.141
STATUS:CONFIRMED
DTSTAMP:20260422T213423Z
CREATED:20210914T174532Z
LAST-MODIFIED:20210914T174532Z
DTSTART;VALUE=DATE:20210914
DTEND;VALUE=DATE:20210914
SUMMARY: International Law and Ethical Tragedy (with Shaun McVeigh and Raim
 ond Gaita) (Online-Discussion)
DESCRIPTION: 14.9.2021\, Online Festival of Conversations (unimelb.edu.au) 
  
X-ALT-DESC;FMTTYPE=text/html: <p>14.9.2021\, Online</p><p><a href="https://
 law.unimelb.edu.au/centres/iilah/news-and-events/events-2021/festival-of-co
 nversations">Festival of Conversations (unimelb.edu.au)</a></p><p> </p><p>[
 av_button label='iCal-Export' link='./feed/eo-events' link_target='' size='
 small' position='center' label_display='' title_attr='' icon_select='yes' i
 con='ue85b' font='entypo-fontello' color='custom' custom_bg='#b5123e' custo
 m_font='#ffffff' av_uid='' id='' custom_class='' admin_preview_bg='']</p>
CATEGORIES:Europäisches / Internationales Recht
LOCATION:Online
GEO:0.000000;0.000000
ORGANIZER;CN="ViFa-Recht":MAILTO:vifa-recht@sbb.spk-berlin.de
URL;VALUE=URI:https://events.intrecht.de/termine/termin/international-law-a
 nd-ethical-tragedy-with-shaun-mcveigh-and-raimond-gaita-online-discussion/
END:VEVENT
BEGIN:VTIMEZONE
TZID:Europe/Berlin
BEGIN:DAYLIGHT
TZOFFSETFROM:+0100
TZOFFSETTO:+0200
DTSTART:20210328T010000
TZNAME:CEST
END:DAYLIGHT
END:VTIMEZONE
END:VCALENDAR
