BEGIN:VCALENDAR
VERSION:2.0
PRODID:-//Events | FID-Recht//NONSGML Events//EN
CALSCALE:GREGORIAN
X-ORIGINAL-URL:https://events.intrecht.de/termine/
X-WR-CALDESC:Events | FID-Recht - Events
BEGIN:VEVENT
UID:20200602T0945Z-1591091115.9737-EO-599-1@172.16.200.141
STATUS:CONFIRMED
DTSTAMP:20260423T052627Z
CREATED:20251008T082707Z
LAST-MODIFIED:20251008T082707Z
DTSTART;VALUE=DATE:20260225
DTEND;VALUE=DATE:20260228
SUMMARY: International Law and Emotions: Recovering Universality? (Conferen
 ce)
DESCRIPTION: 25.-27.2.2026 / Heidelberg (Einreichungsfrist: 31.10.2025) htt
 ps://www.mpil.de/files/pdf6/call-for-engaged-listeners-31.10.2025.pdf
X-ALT-DESC;FMTTYPE=text/html: <p>25.-27.2.2026 / Heidelberg <strong>(Einrei
 chungsfrist: 31.10.2025)</strong></p><p><a href="https://www.mpil.de/files/
 pdf6/call-for-engaged-listeners-31.10.2025.pdf">https://www.mpil.de/files/p
 df6/call-for-engaged-listeners-31.10.2025.pdf</a></p><p>[av_button label='i
 Cal-Export' link='./feed/eo-events' link_target='' size='small' position='c
 enter' label_display='' title_attr='' icon_select='yes' icon='ue85b' font='
 entypo-fontello' color='custom' custom_bg='#b5123e' custom_font='#ffffff' a
 v_uid='' id='' custom_class='' admin_preview_bg='']</p>
CATEGORIES:Europäisches / Internationales Recht
LOCATION:Inland
GEO:0.000000;0.000000
ORGANIZER;CN="ViFa-Recht":MAILTO:vifa-recht@sbb.spk-berlin.de
URL;VALUE=URI:https://events.intrecht.de/termine/termin/international-law-a
 nd-emotions-recovering-universality-conference/
END:VEVENT
BEGIN:VTIMEZONE
TZID:Europe/Berlin
BEGIN:STANDARD
TZOFFSETFROM:+0200
TZOFFSETTO:+0100
DTSTART:20251026T010000
TZNAME:CET
END:STANDARD
END:VTIMEZONE
END:VCALENDAR
