BEGIN:VCALENDAR
VERSION:2.0
PRODID:-//Events | FID-Recht//NONSGML Events//EN
CALSCALE:GREGORIAN
X-ORIGINAL-URL:https://events.intrecht.de/termine/
X-WR-CALDESC:Events | FID-Recht - Events
BEGIN:VEVENT
UID:20200602T0945Z-1591091115.9737-EO-599-1@172.16.200.141
STATUS:CONFIRMED
DTSTAMP:20260423T040928Z
CREATED:20251210T093135Z
LAST-MODIFIED:20251210T093135Z
DTSTART;VALUE=DATE:20260903
DTEND;VALUE=DATE:20260906
SUMMARY: International Law and Conflict: An Enduring Tension? (ESIL 2026 An
 nual Conference)
DESCRIPTION: 3.-5.9.2026 / Málaga (Einreichungsfrist: 31.1.2026) https://ev
 entos.uma.es/135950/detail/xxi-annual-conference-of-the-european-society-of
 -international-law.html
X-ALT-DESC;FMTTYPE=text/html: <p>3.-5.9.2026 / Málaga <strong>(Einreichungs
 frist: 31.1.2026)</strong></p><p><a href="https://eventos.uma.es/135950/det
 ail/xxi-annual-conference-of-the-european-society-of-international-law.html
 ">https://eventos.uma.es/135950/detail/xxi-annual-conference-of-the-europea
 n-society-of-international-law.html</a></p><p>[av_button label='iCal-Export
 ' link='./feed/eo-events' link_target='' size='small' position='center' lab
 el_display='' title_attr='' icon_select='yes' icon='ue85b' font='entypo-fon
 tello' color='custom' custom_bg='#b5123e' custom_font='#ffffff' av_uid='' i
 d='' custom_class='' admin_preview_bg='']</p>
CATEGORIES:Europäisches / Internationales Recht
LOCATION:Ausland
GEO:0.000000;0.000000
ORGANIZER;CN="ViFa-Recht":MAILTO:vifa-recht@sbb.spk-berlin.de
URL;VALUE=URI:https://events.intrecht.de/termine/termin/international-law-a
 nd-conflict-an-enduring-tension-esil-2026-annual-conference/
END:VEVENT
BEGIN:VTIMEZONE
TZID:Europe/Berlin
BEGIN:DAYLIGHT
TZOFFSETFROM:+0100
TZOFFSETTO:+0200
DTSTART:20260329T010000
TZNAME:CEST
END:DAYLIGHT
END:VTIMEZONE
END:VCALENDAR
