BEGIN:VCALENDAR
VERSION:2.0
PRODID:-//Events | FID-Recht//NONSGML Events//EN
CALSCALE:GREGORIAN
X-ORIGINAL-URL:https://events.intrecht.de/termine/
X-WR-CALDESC:Events | FID-Recht - Events
BEGIN:VEVENT
UID:20200603T1418Z-1591193923.3362-EO-587-1@172.16.200.141
STATUS:CONFIRMED
DTSTAMP:20260422T123603Z
CREATED:20240411T161707Z
LAST-MODIFIED:20240411T161707Z
DTSTART;VALUE=DATE:20240530
DTEND;VALUE=DATE:20240531
SUMMARY: International Humanitarian Law Legal Clinics Networking Conference
  (Hybrid Event)
DESCRIPTION: 30.5.2024 / Online und Rom (Anmeldefrist: 23.5.2024) https://d
 rive.google.com/file/d/17N3iF76wWyOLT9kXEIccjCKbi0WTVjMx/view
X-ALT-DESC;FMTTYPE=text/html: <p>30.5.2024 / Online und Rom <strong>(Anmeld
 efrist: 23.5.2024)</strong></p><p><a href="https://drive.google.com/file/d/
 17N3iF76wWyOLT9kXEIccjCKbi0WTVjMx/view">https://drive.google.com/file/d/17N
 3iF76wWyOLT9kXEIccjCKbi0WTVjMx/view</a></p><p>[av_button label='iCal-Export
 ' link='./feed/eo-events' link_target='' size='small' position='center' lab
 el_display='' title_attr='' icon_select='yes' icon='ue85b' font='entypo-fon
 tello' color='custom' custom_bg='#b5123e' custom_font='#ffffff' av_uid='' i
 d='' custom_class='' admin_preview_bg='']</p>
CATEGORIES:Europäisches / Internationales Recht
LOCATION:Hybrid
GEO:0.000000;0.000000
ORGANIZER;CN="ViFa-Recht":MAILTO:vifa-recht@sbb.spk-berlin.de
URL;VALUE=URI:https://events.intrecht.de/termine/termin/international-human
 itarian-law-legal-clinics-networking-conference-hybrid-event/
END:VEVENT
BEGIN:VTIMEZONE
TZID:Europe/Berlin
BEGIN:DAYLIGHT
TZOFFSETFROM:+0100
TZOFFSETTO:+0200
DTSTART:20240331T010000
TZNAME:CEST
END:DAYLIGHT
END:VTIMEZONE
END:VCALENDAR
