BEGIN:VCALENDAR
VERSION:2.0
PRODID:-//Events | FID-Recht//NONSGML Events//EN
CALSCALE:GREGORIAN
X-ORIGINAL-URL:https://events.intrecht.de/termine/
X-WR-CALDESC:Events | FID-Recht - Events
BEGIN:VEVENT
UID:20220501T1541Z-1651419692.5191-EO-6905-1@172.16.200.141
STATUS:CONFIRMED
DTSTAMP:20260426T021038Z
CREATED:20220429T081706Z
LAST-MODIFIED:20220429T081706Z
DTSTART;VALUE=DATE:20220501
DTEND;VALUE=DATE:20220501
SUMMARY: International Empirical Legal Studies Conference (CfP)
DESCRIPTION: 1-2.9.2022\, Amsterdam (Frist für Einreichungen: 1.5.2022) Con
 ference Call for Papers 2022 – Netherlands Academy for Empirical Legal Stud
 ies (elsacademy.nl)  
X-ALT-DESC;FMTTYPE=text/html: <p>1-2.9.2022\, Amsterdam (Frist für Einreich
 ungen: 1.5.2022)</p><p><a href="https://elsacademy.nl/en/conference-call-fo
 r-papers-2022/">Conference Call for Papers 2022 - Netherlands Academy for E
 mpirical Legal Studies (elsacademy.nl)</a></p><p> </p><p>[av_button label='
 iCal-Export' link='./feed/eo-events' link_target='' size='small' position='
 center' label_display='' title_attr='' icon_select='yes' icon='ue85b' font=
 'entypo-fontello' color='custom' custom_bg='#b5123e' custom_font='#ffffff' 
 av_uid='' id='' custom_class='' admin_preview_bg='']</p>
CATEGORIES:Recht interdisziplinär
LOCATION:Ausland
GEO:0.000000;0.000000
ORGANIZER;CN="ViFa-Recht":MAILTO:vifa-recht@sbb.spk-berlin.de
URL;VALUE=URI:https://events.intrecht.de/termine/termin/international-empir
 ical-legal-studies-conference-cfp/
END:VEVENT
BEGIN:VTIMEZONE
TZID:Europe/Berlin
BEGIN:DAYLIGHT
TZOFFSETFROM:+0100
TZOFFSETTO:+0200
DTSTART:20220327T010000
TZNAME:CEST
END:DAYLIGHT
END:VTIMEZONE
END:VCALENDAR
