BEGIN:VCALENDAR
VERSION:2.0
PRODID:-//Events | FID-Recht//NONSGML Events//EN
CALSCALE:GREGORIAN
X-ORIGINAL-URL:https://events.intrecht.de/termine/
X-WR-CALDESC:Events | FID-Recht - Events
BEGIN:VEVENT
UID:20200603T1418Z-1591193923.3362-EO-587-1@172.16.200.141
STATUS:CONFIRMED
DTSTAMP:20260423T003152Z
CREATED:20240130T094620Z
LAST-MODIFIED:20240130T094620Z
DTSTART;VALUE=DATE:20240610
DTEND;VALUE=DATE:20240614
SUMMARY: International Criminal Court Summer School
DESCRIPTION: 10.-13.6.2024 / Online https://www.universityofgalway.ie/irish
 -centre-human-rights/summerschools/iccsummerschool/
X-ALT-DESC;FMTTYPE=text/html: <p>10.-13.6.2024 / Online</p><p><a href="http
 s://www.universityofgalway.ie/irish-centre-human-rights/summerschools/iccsu
 mmerschool/">https://www.universityofgalway.ie/irish-centre-human-rights/su
 mmerschools/iccsummerschool/</a></p><p>[av_button label='iCal-Export' link=
 './feed/eo-events' link_target='' size='small' position='center' label_disp
 lay='' title_attr='' icon_select='yes' icon='ue85b' font='entypo-fontello' 
 color='custom' custom_bg='#b5123e' custom_font='#ffffff' av_uid='' id='' cu
 stom_class='' admin_preview_bg='']</p>
CATEGORIES:Europäisches / Internationales Recht
LOCATION:Online
GEO:0.000000;0.000000
ORGANIZER;CN="ViFa-Recht":MAILTO:vifa-recht@sbb.spk-berlin.de
URL;VALUE=URI:https://events.intrecht.de/termine/termin/international-crimi
 nal-court-summer-school/
END:VEVENT
BEGIN:VTIMEZONE
TZID:Europe/Berlin
BEGIN:DAYLIGHT
TZOFFSETFROM:+0100
TZOFFSETTO:+0200
DTSTART:20240331T010000
TZNAME:CEST
END:DAYLIGHT
END:VTIMEZONE
END:VCALENDAR
