BEGIN:VCALENDAR
VERSION:2.0
PRODID:-//Events | FID-Recht//NONSGML Events//EN
CALSCALE:GREGORIAN
X-ORIGINAL-URL:https://events.intrecht.de/termine/
X-WR-CALDESC:Events | FID-Recht - Events
BEGIN:VEVENT
UID:20200603T1418Z-1591193923.3362-EO-587-1@172.16.200.141
STATUS:CONFIRMED
DTSTAMP:20260421T164207Z
CREATED:20240905T154611Z
LAST-MODIFIED:20240905T154710Z
DTSTART;VALUE=DATE:20250619
DTEND;VALUE=DATE:20250621
SUMMARY: International Courts and Tribunals – Interactions and Challenges (
 Workshop)
DESCRIPTION: 19.-20.6.2025 / Lüneburg (Einreichungsfrist: 30.1.2025) https:
 //www.leuphana.de/institute/insugo/voelkerrecht/veranstaltungen/joint-resea
 rch-forum.html
X-ALT-DESC;FMTTYPE=text/html: <p>19.-20.6.2025 / Lüneburg <strong>(Einreich
 ungsfrist:</strong> <strong>30.1.2025)</strong></p><p><a href="https://www.
 leuphana.de/institute/insugo/voelkerrecht/veranstaltungen/joint-research-fo
 rum.html">https://www.leuphana.de/institute/insugo/voelkerrecht/veranstaltu
 ngen/joint-research-forum.html</a></p><p>[av_button label='iCal-Export' lin
 k='./feed/eo-events' link_target='' size='small' position='center' label_di
 splay='' title_attr='' icon_select='yes' icon='ue85b' font='entypo-fontello
 ' color='custom' custom_bg='#b5123e' custom_font='#ffffff' av_uid='' id='' 
 custom_class='' admin_preview_bg='']</p>
CATEGORIES:Europäisches / Internationales Recht
LOCATION:Inland
GEO:0.000000;0.000000
ORGANIZER;CN="ViFa-Recht":MAILTO:vifa-recht@sbb.spk-berlin.de
URL;VALUE=URI:https://events.intrecht.de/termine/termin/international-court
 s-and-tribunals-interactions-and-challenges-workshop/
END:VEVENT
BEGIN:VTIMEZONE
TZID:Europe/Berlin
BEGIN:DAYLIGHT
TZOFFSETFROM:+0100
TZOFFSETTO:+0200
DTSTART:20250330T010000
TZNAME:CEST
END:DAYLIGHT
END:VTIMEZONE
END:VCALENDAR
