BEGIN:VCALENDAR
VERSION:2.0
PRODID:-//Events | FID-Recht//NONSGML Events//EN
CALSCALE:GREGORIAN
X-ORIGINAL-URL:https://events.intrecht.de/termine/
X-WR-CALDESC:Events | FID-Recht - Events
BEGIN:VEVENT
UID:20200603T1418Z-1591193923.3362-EO-587-1@172.16.200.141
STATUS:CONFIRMED
DTSTAMP:20260425T232523Z
CREATED:20230912T120847Z
LAST-MODIFIED:20230912T120847Z
DTSTART;VALUE=DATE:20240208
DTEND;VALUE=DATE:20240210
SUMMARY: International Conference on Constitutional Communities
DESCRIPTION: 8.-9.2.2024 / Leuven (Einreichungsfrist: 5.10.2023) https://hi
 w.kuleuven.be/en/news-events/news/CFP_International_conference_on_Constitut
 ional_Communities
X-ALT-DESC;FMTTYPE=text/html: <p>8.-9.2.2024 / Leuven <strong>(Einreichungs
 frist: 5.10.2023)</strong></p><p><a href="https://hiw.kuleuven.be/en/news-e
 vents/news/CFP_International_conference_on_Constitutional_Communities">http
 s://hiw.kuleuven.be/en/news-events/news/CFP_International_conference_on_Con
 stitutional_Communities</a></p><p>[av_button label='iCal-Export' link='./fe
 ed/eo-events' link_target='' size='small' position='center' label_display='
 ' title_attr='' icon_select='yes' icon='ue85b' font='entypo-fontello' color
 ='custom' custom_bg='#b5123e' custom_font='#ffffff' av_uid='' id='' custom_
 class='' admin_preview_bg='']</p>
CATEGORIES:Recht interdisziplinär
LOCATION:Ausland
GEO:0.000000;0.000000
ORGANIZER;CN="ViFa-Recht":MAILTO:vifa-recht@sbb.spk-berlin.de
URL;VALUE=URI:https://events.intrecht.de/termine/termin/international-confe
 rence-on-constitutional-communities/
END:VEVENT
BEGIN:VTIMEZONE
TZID:Europe/Berlin
BEGIN:STANDARD
TZOFFSETFROM:+0200
TZOFFSETTO:+0100
DTSTART:20231029T010000
TZNAME:CET
END:STANDARD
END:VTIMEZONE
END:VCALENDAR
