BEGIN:VCALENDAR
VERSION:2.0
PRODID:-//Events | FID-Recht//NONSGML Events//EN
CALSCALE:GREGORIAN
X-ORIGINAL-URL:https://events.intrecht.de/termine/
X-WR-CALDESC:Events | FID-Recht - Events
BEGIN:VEVENT
UID:20200619T0044Z-1592527448.3383-EO-861-1@172.16.200.141
STATUS:CONFIRMED
DTSTAMP:20260422T193947Z
CREATED:20200604T154308Z
LAST-MODIFIED:20200616T175033Z
DTSTART;VALUE=DATE:20200703
DTEND;VALUE=DATE:20200705
SUMMARY: International Association of Constitutional Law (IACL) Conference 
 – Free Speech in the 21st Century (Online-Konferenz)
DESCRIPTION: 3.-4.7.2020\, Ljubiljana – NEUER ORT: Online https://blog-iacl
 -aidc.org/cfp/2019/12/5/cfp-iacl-conference-on-free-speech-in-the-21st-cent
 ury http://iaclfreespeech.almamater.eu/  For details please contact the org
 anizers: jurij.toplak@almamater.si & milena.sokolic@almamater.si  
X-ALT-DESC;FMTTYPE=text/html: <p>3.-4.7.2020\, Ljubiljana – NEUER ORT: Onli
 ne</p><p><a href="https://blog-iacl-aidc.org/cfp/2019/12/5/cfp-iacl-confere
 nce-on-free-speech-in-the-21st-century">https://blog-iacl-aidc.org/cfp/2019
 /12/5/cfp-iacl-conference-on-free-speech-in-the-21st-century</a></p><p><a h
 ref="http://iaclfreespeech.almamater.eu/">http://iaclfreespeech.almamater.e
 u/ </a></p><p>For details please contact the organizers:</p><p><a href="mai
 lto:jurij.toplak@almamater.si">jurij.toplak@almamater.si</a> & <a href="mai
 lto:milena.sokolic@almamater.si">milena.sokolic@almamater.si</a></p><p> </p
 ><p>[av_button label='iCal-Export' link='./feed/eo-events' link_target='' s
 ize='small' position='center' label_display='' title_attr='' icon_select='y
 es' icon='ue85b' font='entypo-fontello' color='custom' custom_bg='#b5123e' 
 custom_font='#ffffff' av_uid='' id='' custom_class='' admin_preview_bg='']<
 /p>
CATEGORIES:Öffentliches Recht
LOCATION:Online
GEO:0.000000;0.000000
ORGANIZER;CN="ViFa-Recht":MAILTO:vifa-recht@sbb.spk-berlin.de
URL;VALUE=URI:https://events.intrecht.de/termine/termin/international-assoc
 iation-of-constitutional-law-iacl-conference-free-speech-in-the-21st-centur
 y-online-konferenz/
END:VEVENT
BEGIN:VTIMEZONE
TZID:Europe/Berlin
BEGIN:DAYLIGHT
TZOFFSETFROM:+0100
TZOFFSETTO:+0200
DTSTART:20200329T010000
TZNAME:CEST
END:DAYLIGHT
END:VTIMEZONE
END:VCALENDAR
