BEGIN:VCALENDAR
VERSION:2.0
PRODID:-//Events | FID-Recht//NONSGML Events//EN
CALSCALE:GREGORIAN
X-ORIGINAL-URL:https://events.intrecht.de/termine/
X-WR-CALDESC:Events | FID-Recht - Events
BEGIN:VEVENT
UID:20220312T0424Z-1647059080.8482-EO-6310-1@172.16.200.141
STATUS:CONFIRMED
DTSTAMP:20260421T102730Z
CREATED:20220307T112936Z
LAST-MODIFIED:20220307T112936Z
DTSTART;VALUE=DATE:20220401
DTEND;VALUE=DATE:20220401
SUMMARY: International Association of Constitutional Law (IACL-AIDC) Junior
  Scholars Forum (Online-Tagung) (CfP)
DESCRIPTION: 8.-14.9.2022\, Online (Frist für Einreichungen: 1.4.2022) CfP:
  IACL-AIDC Junior Scholars Forum — IACL-IADC Blog (blog-iacl-aidc.org)  
X-ALT-DESC;FMTTYPE=text/html: <p>8.-14.9.2022\, Online (Frist für Einreichu
 ngen: 1.4.2022)</p><p><a href="https://blog-iacl-aidc.org/cfp/2022/3/1/cfp-
 iacl-aidc-junior-scholars-forum">CfP: IACL-AIDC Junior Scholars Forum — IAC
 L-IADC Blog (blog-iacl-aidc.org)</a></p><p> </p><p>[av_button label='iCal-E
 xport' link='./feed/eo-events' link_target='' size='small' position='center
 ' label_display='' title_attr='' icon_select='yes' icon='ue85b' font='entyp
 o-fontello' color='custom' custom_bg='#b5123e' custom_font='#ffffff' av_uid
 ='' id='' custom_class='' admin_preview_bg='']</p>
CATEGORIES:Öffentliches Recht
LOCATION:Online
GEO:0.000000;0.000000
ORGANIZER;CN="ViFa-Recht":MAILTO:vifa-recht@sbb.spk-berlin.de
URL;VALUE=URI:https://events.intrecht.de/termine/termin/international-assoc
 iation-of-constitutional-law-iacl-aidc-junior-scholars-forum-online-tagung-
 cfp/
END:VEVENT
BEGIN:VTIMEZONE
TZID:Europe/Berlin
BEGIN:DAYLIGHT
TZOFFSETFROM:+0100
TZOFFSETTO:+0200
DTSTART:20220327T010000
TZNAME:CEST
END:DAYLIGHT
END:VTIMEZONE
END:VCALENDAR
