BEGIN:VCALENDAR
VERSION:2.0
PRODID:-//Events | FID-Recht//NONSGML Events//EN
CALSCALE:GREGORIAN
X-ORIGINAL-URL:https://events.intrecht.de/termine/
X-WR-CALDESC:Events | FID-Recht - Events
BEGIN:VEVENT
UID:20200603T1418Z-1591193923.3362-EO-587-1@172.16.200.141
STATUS:CONFIRMED
DTSTAMP:20260425T151225Z
CREATED:20231109T183723Z
LAST-MODIFIED:20231109T183723Z
DTSTART;VALUE=DATE:20231115
DTEND;VALUE=DATE:20231116
SUMMARY: International and European Law before the Meta Oversight Board (Vo
 rtrag / Völkerrechtliche Tagesthemen)
DESCRIPTION: 15.11.2023 / Online und Kiel https://www.wsi.uni-kiel.de/de/ve
 ranstaltungen/voelkerrechtliche-tagesthemen/voelkerrechtliche-tagesthemen-i
 nternational-and-european-law-before-the-meta-oversight-board-with-jed-oder
 matt
X-ALT-DESC;FMTTYPE=text/html: <p>15.11.2023 / Online und Kiel</p><p><a href
 ="https://www.wsi.uni-kiel.de/de/veranstaltungen/voelkerrechtliche-tagesthe
 men/voelkerrechtliche-tagesthemen-international-and-european-law-before-the
 -meta-oversight-board-with-jed-odermatt">https://www.wsi.uni-kiel.de/de/ver
 anstaltungen/voelkerrechtliche-tagesthemen/voelkerrechtliche-tagesthemen-in
 ternational-and-european-law-before-the-meta-oversight-board-with-jed-oderm
 att</a></p><p>[av_button label='iCal-Export' link='./feed/eo-events' link_t
 arget='' size='small' position='center' label_display='' title_attr='' icon
 _select='yes' icon='ue85b' font='entypo-fontello' color='custom' custom_bg=
 '#b5123e' custom_font='#ffffff' av_uid='' id='' custom_class='' admin_previ
 ew_bg='']</p>
CATEGORIES:Europäisches / Internationales Recht
LOCATION:Online
GEO:0.000000;0.000000
ORGANIZER;CN="ViFa-Recht":MAILTO:vifa-recht@sbb.spk-berlin.de
URL;VALUE=URI:https://events.intrecht.de/termine/termin/international-and-e
 uropean-law-before-the-meta-oversight-board-vortrag-voelkerrechtliche-tages
 themen/
END:VEVENT
BEGIN:VTIMEZONE
TZID:Europe/Berlin
BEGIN:STANDARD
TZOFFSETFROM:+0200
TZOFFSETTO:+0100
DTSTART:20231029T010000
TZNAME:CET
END:STANDARD
END:VTIMEZONE
END:VCALENDAR
