BEGIN:VCALENDAR
VERSION:2.0
PRODID:-//Events | FID-Recht//NONSGML Events//EN
CALSCALE:GREGORIAN
X-ORIGINAL-URL:https://events.intrecht.de/termine/
X-WR-CALDESC:Events | FID-Recht - Events
BEGIN:VEVENT
UID:20200603T1418Z-1591193923.3362-EO-587-1@172.16.200.141
STATUS:CONFIRMED
DTSTAMP:20260423T021011Z
CREATED:20250218T085242Z
LAST-MODIFIED:20250218T085242Z
DTSTART;VALUE=DATE:20250509
DTEND;VALUE=DATE:20250511
SUMMARY: International Adjudication – Peace Through Law in our Times (A col
 loquium to commemorate the 150th birthday of Walther Schücking)
DESCRIPTION: 9.-10.5.2025 / Kiel https://cloud.rz.uni-kiel.de/index.php/app
 s/forms/s/A4ycz4gjHfmGLzrkk3qBAEMc
X-ALT-DESC;FMTTYPE=text/html: <p>9.-10.5.2025 / Kiel</p><p><a href="https:/
 /cloud.rz.uni-kiel.de/index.php/apps/forms/s/A4ycz4gjHfmGLzrkk3qBAEMc">http
 s://cloud.rz.uni-kiel.de/index.php/apps/forms/s/A4ycz4gjHfmGLzrkk3qBAEMc</a
 ></p><p>[av_button label='iCal-Export' link='./feed/eo-events' link_target=
 '' size='small' position='center' label_display='' title_attr='' icon_selec
 t='yes' icon='ue85b' font='entypo-fontello' color='custom' custom_bg='#b512
 3e' custom_font='#ffffff' av_uid='' id='' custom_class='' admin_preview_bg=
 '']</p>
CATEGORIES:Europäisches / Internationales Recht
LOCATION:Inland
GEO:0.000000;0.000000
ORGANIZER;CN="ViFa-Recht":MAILTO:vifa-recht@sbb.spk-berlin.de
URL;VALUE=URI:https://events.intrecht.de/termine/termin/international-adjud
 ication-peace-through-law-in-our-times-a-colloquium-to-commemorate-the-150t
 h-birthday-of-walther-schuecking/
END:VEVENT
BEGIN:VTIMEZONE
TZID:Europe/Berlin
BEGIN:DAYLIGHT
TZOFFSETFROM:+0100
TZOFFSETTO:+0200
DTSTART:20250330T010000
TZNAME:CEST
END:DAYLIGHT
END:VTIMEZONE
END:VCALENDAR
