BEGIN:VCALENDAR
VERSION:2.0
PRODID:-//Events | FID-Recht//NONSGML Events//EN
CALSCALE:GREGORIAN
X-ORIGINAL-URL:https://events.intrecht.de/termine/
X-WR-CALDESC:Events | FID-Recht - Events
BEGIN:VEVENT
UID:20200603T1418Z-1591193923.3362-EO-587-1@172.16.200.141
STATUS:CONFIRMED
DTSTAMP:20260425T163551Z
CREATED:20250902T122117Z
LAST-MODIFIED:20250902T122117Z
DTSTART;VALUE=DATE:20260914
DTEND;VALUE=DATE:20260919
SUMMARY: Interkulturalität im Recht (Rechtshistorikertag)
DESCRIPTION: 14.-18.9.2026 / Wien (Einreichungsfrist: 15.9.2025) https://rh
 t2026.univie.ac.at/fileadmin/user_upload/k_rht2026/Diverses/RHT_Einladung_u
 nd_Call_Stand_27.06.2025.pdf
X-ALT-DESC;FMTTYPE=text/html: <p>14.-18.9.2026 / Wien <strong>(Einreichungs
 frist: 15.9.2025)</strong></p><p><a href="https://rht2026.univie.ac.at/file
 admin/user_upload/k_rht2026/Diverses/RHT_Einladung_und_Call_Stand_27.06.202
 5.pdf">https://rht2026.univie.ac.at/fileadmin/user_upload/k_rht2026/Diverse
 s/RHT_Einladung_und_Call_Stand_27.06.2025.pdf</a></p><p>[av_button label='i
 Cal-Export' link='./feed/eo-events' link_target='' size='small' position='c
 enter' label_display='' title_attr='' icon_select='yes' icon='ue85b' font='
 entypo-fontello' color='custom' custom_bg='#b5123e' custom_font='#ffffff' a
 v_uid='' id='' custom_class='' admin_preview_bg='']</p>
CATEGORIES:Recht interdisziplinär
LOCATION:Ausland
GEO:0.000000;0.000000
ORGANIZER;CN="ViFa-Recht":MAILTO:vifa-recht@sbb.spk-berlin.de
URL;VALUE=URI:https://events.intrecht.de/termine/termin/interkulturalitaet-
 im-recht-rechtshistorikertag/
END:VEVENT
BEGIN:VTIMEZONE
TZID:Europe/Berlin
BEGIN:DAYLIGHT
TZOFFSETFROM:+0100
TZOFFSETTO:+0200
DTSTART:20260329T010000
TZNAME:CEST
END:DAYLIGHT
END:VTIMEZONE
END:VCALENDAR
