BEGIN:VCALENDAR
VERSION:2.0
PRODID:-//Events | FID-Recht//NONSGML Events//EN
CALSCALE:GREGORIAN
X-ORIGINAL-URL:https://events.intrecht.de/termine/
X-WR-CALDESC:Events | FID-Recht - Events
BEGIN:VEVENT
UID:20221121T0032Z-1668990769.4185-EO-6900-1@172.16.200.151
STATUS:CONFIRMED
DTSTAMP:20260421T102708Z
CREATED:20221102T142708Z
LAST-MODIFIED:20221102T142708Z
DTSTART;VALUE=DATE:20221109
DTEND;VALUE=DATE:20221110
SUMMARY: Interest Group on Peace and Security | Online discussion on “Empir
 ical and Theoretical Perspectives on International Law”
DESCRIPTION: 9.11.2022 / Online https://esil-sedi.eu/interest-group-on-peac
 e-and-security-online-discussion-on-empirical-and-theoretical-perspectives-
 on-international-law/  
X-ALT-DESC;FMTTYPE=text/html: <p>9.11.2022 / Online</p><p><a href="https://
 esil-sedi.eu/interest-group-on-peace-and-security-online-discussion-on-empi
 rical-and-theoretical-perspectives-on-international-law/">https://esil-sedi
 .eu/interest-group-on-peace-and-security-online-discussion-on-empirical-and
 -theoretical-perspectives-on-international-law/</a></p><p> </p><p>[av_butto
 n label='iCal-Export' link='./feed/eo-events' link_target='' size='small' p
 osition='center' label_display='' title_attr='' icon_select='yes' icon='ue8
 5b' font='entypo-fontello' color='custom' custom_bg='#b5123e' custom_font='
 #ffffff' av_uid='' id='' custom_class='' admin_preview_bg='']</p>
CATEGORIES:Europäisches / Internationales Recht
LOCATION:Online
GEO:0.000000;0.000000
ORGANIZER;CN="ViFa-Recht":MAILTO:vifa-recht@sbb.spk-berlin.de
URL;VALUE=URI:https://events.intrecht.de/termine/termin/interest-group-on-p
 eace-and-security-online-discussion-on-empirical-and-theoretical-perspectiv
 es-on-international-law/
END:VEVENT
BEGIN:VTIMEZONE
TZID:Europe/Berlin
BEGIN:STANDARD
TZOFFSETFROM:+0200
TZOFFSETTO:+0100
DTSTART:20221030T010000
TZNAME:CET
END:STANDARD
END:VTIMEZONE
END:VCALENDAR
