BEGIN:VCALENDAR
VERSION:2.0
PRODID:-//Events | FID-Recht//NONSGML Events//EN
CALSCALE:GREGORIAN
X-ORIGINAL-URL:https://events.intrecht.de/termine/
X-WR-CALDESC:Events | FID-Recht - Events
BEGIN:VEVENT
UID:20221106T0452Z-1667710335.9952-EO-6899-1@172.16.200.151
STATUS:CONFIRMED
DTSTAMP:20260421T133523Z
CREATED:20221102T142426Z
LAST-MODIFIED:20221102T142426Z
DTSTART;VALUE=DATE:20221108
DTEND;VALUE=DATE:20221110
SUMMARY: Interest Group on International Economic Law | Conference on “A Mi
 d-term Review European Parliament Committee on International Trade (INTA Co
 mmittee)”
DESCRIPTION: 8.-9.11.2022 / Online und Brüssel https://esil-sedi.eu/interes
 t-group-on-international-economic-law-conference-on-a-mid-term-review-europ
 ean-parliament-committee-on-international-trade-inta-committee/  
X-ALT-DESC;FMTTYPE=text/html: <p>8.-9.11.2022 / Online und Brüssel</p><p><a
  href="https://esil-sedi.eu/interest-group-on-international-economic-law-co
 nference-on-a-mid-term-review-european-parliament-committee-on-internationa
 l-trade-inta-committee/">https://esil-sedi.eu/interest-group-on-internation
 al-economic-law-conference-on-a-mid-term-review-european-parliament-committ
 ee-on-international-trade-inta-committee/</a></p><p> </p><p>[av_button labe
 l='iCal-Export' link='./feed/eo-events' link_target='' size='small' positio
 n='center' label_display='' title_attr='' icon_select='yes' icon='ue85b' fo
 nt='entypo-fontello' color='custom' custom_bg='#b5123e' custom_font='#fffff
 f' av_uid='' id='' custom_class='' admin_preview_bg='']</p>
CATEGORIES:Europäisches / Internationales Recht
LOCATION:Online
GEO:0.000000;0.000000
ORGANIZER;CN="ViFa-Recht":MAILTO:vifa-recht@sbb.spk-berlin.de
URL;VALUE=URI:https://events.intrecht.de/termine/termin/interest-group-on-i
 nternational-economic-law-conference-on-a-mid-term-review-european-parliame
 nt-committee-on-international-trade-inta-committee/
END:VEVENT
BEGIN:VTIMEZONE
TZID:Europe/Berlin
BEGIN:STANDARD
TZOFFSETFROM:+0200
TZOFFSETTO:+0100
DTSTART:20221030T010000
TZNAME:CET
END:STANDARD
END:VTIMEZONE
END:VCALENDAR
