BEGIN:VCALENDAR
VERSION:2.0
PRODID:-//Events | FID-Recht//NONSGML Events//EN
CALSCALE:GREGORIAN
X-ORIGINAL-URL:https://events.intrecht.de/termine/
X-WR-CALDESC:Events | FID-Recht - Events
BEGIN:VEVENT
UID:20200602T0945Z-1591091115.9737-EO-599-1@172.16.200.141
STATUS:CONFIRMED
DTSTAMP:20260423T053717Z
CREATED:20251029T095738Z
LAST-MODIFIED:20251029T095738Z
DTSTART;VALUE=DATE:20260226
DTEND;VALUE=DATE:20260228
SUMMARY: Interessen und Interessenvermittlung im Zeitalter von Populismus u
 nd Polarisierung (Tagung)
DESCRIPTION: 26.-27.2.2026 / Duisburg-Essen (Einreichungsfrist: 23.11.2025)
  https://www.dvpw.de/fileadmin/docs/Termine/2025-10-16_Call_Interessen-und-
 Interessenvermittlung-im-Zeitalter-von-Populismus-und-Polarisierung_Jahrest
 agung_2026.pdf
X-ALT-DESC;FMTTYPE=text/html: <p>26.-27.2.2026 / Duisburg-Essen <strong>(Ei
 nreichungsfrist: 23.11.2025)</strong></p><p><a href="https://www.dvpw.de/fi
 leadmin/docs/Termine/2025-10-16_Call_Interessen-und-Interessenvermittlung-i
 m-Zeitalter-von-Populismus-und-Polarisierung_Jahrestagung_2026.pdf">https:/
 /www.dvpw.de/fileadmin/docs/Termine/2025-10-16_Call_Interessen-und-Interess
 envermittlung-im-Zeitalter-von-Populismus-und-Polarisierung_Jahrestagung_20
 26.pdf</a></p><p>[av_button label='iCal-Export' link='./feed/eo-events' lin
 k_target='' size='small' position='center' label_display='' title_attr='' i
 con_select='yes' icon='ue85b' font='entypo-fontello' color='custom' custom_
 bg='#b5123e' custom_font='#ffffff' av_uid='' id='' custom_class='' admin_pr
 eview_bg='']</p>
CATEGORIES:Recht interdisziplinär
LOCATION:Inland
GEO:0.000000;0.000000
ORGANIZER;CN="ViFa-Recht":MAILTO:vifa-recht@sbb.spk-berlin.de
URL;VALUE=URI:https://events.intrecht.de/termine/termin/interessen-und-inte
 ressenvermittlung-im-zeitalter-von-populismus-und-polarisierung-tagung/
END:VEVENT
BEGIN:VTIMEZONE
TZID:Europe/Berlin
BEGIN:STANDARD
TZOFFSETFROM:+0200
TZOFFSETTO:+0100
DTSTART:20251026T010000
TZNAME:CET
END:STANDARD
END:VTIMEZONE
END:VCALENDAR
