BEGIN:VCALENDAR
VERSION:2.0
PRODID:-//Events | FID-Recht//NONSGML Events//EN
CALSCALE:GREGORIAN
X-ORIGINAL-URL:https://events.intrecht.de/termine/
X-WR-CALDESC:Events | FID-Recht - Events
BEGIN:VEVENT
UID:20220929T0154Z-1664416473.9111-EO-6364-1@172.16.200.151
STATUS:CONFIRMED
DTSTAMP:20260421T102510Z
CREATED:20220926T083254Z
LAST-MODIFIED:20220926T083254Z
DTSTART;VALUE=DATE:20221103
DTEND;VALUE=DATE:20221105
SUMMARY: Interdisziplinäre Tagung zum Thema „Quarantäne“
DESCRIPTION: 3.-4.11.2022\, Frankfurt am Main https://twitter.com/andkiessl
 ing/status/1572185276914569218  
X-ALT-DESC;FMTTYPE=text/html: <p>3.-4.11.2022\, Frankfurt am Main</p><p><a 
 href="https://twitter.com/andkiessling/status/1572185276914569218">https://
 twitter.com/andkiessling/status/1572185276914569218</a></p><p> </p><p>[av_b
 utton label='iCal-Export' link='./feed/eo-events' link_target='' size='smal
 l' position='center' label_display='' title_attr='' icon_select='yes' icon=
 'ue85b' font='entypo-fontello' color='custom' custom_bg='#b5123e' custom_fo
 nt='#ffffff' av_uid='' id='' custom_class='' admin_preview_bg='']</p>
CATEGORIES:Recht interdisziplinär
LOCATION:Inland
GEO:0.000000;0.000000
ORGANIZER;CN="ViFa-Recht":MAILTO:vifa-recht@sbb.spk-berlin.de
URL;VALUE=URI:https://events.intrecht.de/termine/termin/interdisziplinaere-
 tagung-zum-thema-quarantaene/
END:VEVENT
BEGIN:VTIMEZONE
TZID:Europe/Berlin
BEGIN:STANDARD
TZOFFSETFROM:+0200
TZOFFSETTO:+0100
DTSTART:20221030T010000
TZNAME:CET
END:STANDARD
END:VTIMEZONE
END:VCALENDAR
