BEGIN:VCALENDAR
VERSION:2.0
PRODID:-//Events | FID-Recht//NONSGML Events//EN
CALSCALE:GREGORIAN
X-ORIGINAL-URL:https://events.intrecht.de/termine/
X-WR-CALDESC:Events | FID-Recht - Events
BEGIN:VEVENT
UID:20200603T1418Z-1591193923.3362-EO-587-1@172.16.200.141
STATUS:CONFIRMED
DTSTAMP:20260422T032801Z
CREATED:20230821T132228Z
LAST-MODIFIED:20230821T132228Z
DTSTART;VALUE=DATE:20240205
DTEND;VALUE=DATE:20240207
SUMMARY: Interdisziplinäre Graduiertenkonferenz zu Parteienwissenschaften
DESCRIPTION: 5.-6.2.2024 / Düsseldorf (Frist für Einreichungen: 12.11.2023)
  https://www.pruf.de/fileadmin/redaktion/Oeffentliche_Medien/PRuF/Tagungen/
 Call_GraPa_2024__1_.pdf
X-ALT-DESC;FMTTYPE=text/html: <p>5.-6.2.2024 / Düsseldorf <strong>(Frist fü
 r Einreichungen: 12.11.2023)</strong></p><p><a href="https://www.pruf.de/fi
 leadmin/redaktion/Oeffentliche_Medien/PRuF/Tagungen/Call_GraPa_2024__1_.pdf
 ">https://www.pruf.de/fileadmin/redaktion/Oeffentliche_Medien/PRuF/Tagungen
 /Call_GraPa_2024__1_.pdf</a></p><p>[av_button label='iCal-Export' link='./f
 eed/eo-events' link_target='' size='small' position='center' label_display=
 '' title_attr='' icon_select='yes' icon='ue85b' font='entypo-fontello' colo
 r='custom' custom_bg='#b5123e' custom_font='#ffffff' av_uid='' id='' custom
 _class='' admin_preview_bg='']</p>
CATEGORIES:Recht interdisziplinär
LOCATION:Inland
GEO:0.000000;0.000000
ORGANIZER;CN="ViFa-Recht":MAILTO:vifa-recht@sbb.spk-berlin.de
URL;VALUE=URI:https://events.intrecht.de/termine/termin/interdisziplinaere-
 graduiertenkonferenz-zu-parteienwissenschaften/
END:VEVENT
BEGIN:VTIMEZONE
TZID:Europe/Berlin
BEGIN:STANDARD
TZOFFSETFROM:+0200
TZOFFSETTO:+0100
DTSTART:20231029T010000
TZNAME:CET
END:STANDARD
END:VTIMEZONE
END:VCALENDAR
