BEGIN:VCALENDAR
VERSION:2.0
PRODID:-//Events | FID-Recht//NONSGML Events//EN
CALSCALE:GREGORIAN
X-ORIGINAL-URL:https://events.intrecht.de/termine/
X-WR-CALDESC:Events | FID-Recht - Events
BEGIN:VEVENT
UID:20200603T1418Z-1591193923.3362-EO-587-1@172.16.200.141
STATUS:CONFIRMED
DTSTAMP:20260425T144222Z
CREATED:20231107T095741Z
LAST-MODIFIED:20231107T095741Z
DTSTART;VALUE=DATE:20231201
DTEND;VALUE=DATE:20231203
SUMMARY: Interdisciplinary Perspectives on Resilience and the Welfare State
  (Hybride Tagung)
DESCRIPTION: 1.-2.12.2023 / Online und Frankfurt (Oder) (Anmeldefrist: 22.1
 1.2023) https://www.rewi.europa-uni.de/de/lehrstuhl/or/sozialrecht/veransta
 ltungen/index.html
X-ALT-DESC;FMTTYPE=text/html: <p>1.-2.12.2023 / Online und Frankfurt (Oder)
  <strong>(Anmeldefrist: 22.11.2023)</strong></p><p><a href="https://www.rew
 i.europa-uni.de/de/lehrstuhl/or/sozialrecht/veranstaltungen/index.html">htt
 ps://www.rewi.europa-uni.de/de/lehrstuhl/or/sozialrecht/veranstaltungen/ind
 ex.html</a></p><p>[av_button label='iCal-Export' link='./feed/eo-events' li
 nk_target='' size='small' position='center' label_display='' title_attr='' 
 icon_select='yes' icon='ue85b' font='entypo-fontello' color='custom' custom
 _bg='#b5123e' custom_font='#ffffff' av_uid='' id='' custom_class='' admin_p
 review_bg='']</p>
CATEGORIES:Recht interdisziplinär
LOCATION:Online
GEO:0.000000;0.000000
ORGANIZER;CN="ViFa-Recht":MAILTO:vifa-recht@sbb.spk-berlin.de
URL;VALUE=URI:https://events.intrecht.de/termine/termin/interdisciplinary-p
 erspectives-on-resilience-and-the-welfare-state-hybride-tagung/
END:VEVENT
BEGIN:VTIMEZONE
TZID:Europe/Berlin
BEGIN:STANDARD
TZOFFSETFROM:+0200
TZOFFSETTO:+0100
DTSTART:20231029T010000
TZNAME:CET
END:STANDARD
END:VTIMEZONE
END:VCALENDAR
