BEGIN:VCALENDAR
VERSION:2.0
PRODID:-//Events | FID-Recht//NONSGML Events//EN
CALSCALE:GREGORIAN
X-ORIGINAL-URL:https://events.intrecht.de/termine/
X-WR-CALDESC:Events | FID-Recht - Events
BEGIN:VEVENT
UID:20200603T1418Z-1591193923.3362-EO-587-1@172.16.200.141
STATUS:CONFIRMED
DTSTAMP:20260422T225004Z
CREATED:20241104T140306Z
LAST-MODIFIED:20241104T140306Z
DTSTART;VALUE=DATE:20241120
DTEND;VALUE=DATE:20241123
SUMMARY: Interdisciplinary Perspectives on Human Rights and Social Justice 
 (Conference)
DESCRIPTION: 20.-22.11.2024 / Fulda https://www.hs-fulda.de/en/departments/
 social-cultural-sciences/research/doctoral-programme-human-rights-and-socia
 l-justice/international-conference-2024
X-ALT-DESC;FMTTYPE=text/html: <p>20.-22.11.2024 / Fulda</p><p><a href="http
 s://www.hs-fulda.de/en/departments/social-cultural-sciences/research/doctor
 al-programme-human-rights-and-social-justice/international-conference-2024"
 >https://www.hs-fulda.de/en/departments/social-cultural-sciences/research/d
 octoral-programme-human-rights-and-social-justice/international-conference-
 2024</a></p><p>[av_button label='iCal-Export' link='./feed/eo-events' link_
 target='' size='small' position='center' label_display='' title_attr='' ico
 n_select='yes' icon='ue85b' font='entypo-fontello' color='custom' custom_bg
 ='#b5123e' custom_font='#ffffff' av_uid='' id='' custom_class='' admin_prev
 iew_bg='']</p>
CATEGORIES:Europäisches / Internationales Recht
LOCATION:Inland
GEO:0.000000;0.000000
ORGANIZER;CN="ViFa-Recht":MAILTO:vifa-recht@sbb.spk-berlin.de
URL;VALUE=URI:https://events.intrecht.de/termine/termin/interdisciplinary-p
 erspectives-on-human-rights-and-social-justice-conference/
END:VEVENT
BEGIN:VTIMEZONE
TZID:Europe/Berlin
BEGIN:STANDARD
TZOFFSETFROM:+0200
TZOFFSETTO:+0100
DTSTART:20241027T010000
TZNAME:CET
END:STANDARD
END:VTIMEZONE
END:VCALENDAR
