BEGIN:VCALENDAR
VERSION:2.0
PRODID:-//Events | FID-Recht//NONSGML Events//EN
CALSCALE:GREGORIAN
X-ORIGINAL-URL:https://events.intrecht.de/termine/
X-WR-CALDESC:Events | FID-Recht - Events
BEGIN:VEVENT
UID:20200603T1418Z-1591193923.3362-EO-587-1@172.16.200.141
STATUS:CONFIRMED
DTSTAMP:20260423T021014Z
CREATED:20250827T103310Z
LAST-MODIFIED:20250827T103310Z
DTSTART;VALUE=DATE:20250930
DTEND;VALUE=DATE:20251001
SUMMARY: Interdisciplinary Approaches to Feminist Legal Theory: Gender-Sens
 itive Legal Frameworks in the Age of Data Surveillance (Online Event)
DESCRIPTION: 30.9.2025 / Online https://law.mpg.de/event/interdisciplinary-
 approaches-to-feminist-legal-theory/
X-ALT-DESC;FMTTYPE=text/html: <p>30.9.2025 / Online</p><p><a href="https://
 law.mpg.de/event/interdisciplinary-approaches-to-feminist-legal-theory/">ht
 tps://law.mpg.de/event/interdisciplinary-approaches-to-feminist-legal-theor
 y/</a></p><p>[av_button label='iCal-Export' link='./feed/eo-events' link_ta
 rget='' size='small' position='center' label_display='' title_attr='' icon_
 select='yes' icon='ue85b' font='entypo-fontello' color='custom' custom_bg='
 #b5123e' custom_font='#ffffff' av_uid='' id='' custom_class='' admin_previe
 w_bg='']</p>
CATEGORIES:Recht interdisziplinär
LOCATION:Online
GEO:0.000000;0.000000
ORGANIZER;CN="ViFa-Recht":MAILTO:vifa-recht@sbb.spk-berlin.de
URL;VALUE=URI:https://events.intrecht.de/termine/termin/interdisciplinary-a
 pproaches-to-feminist-legal-theory-gender-sensitive-legal-frameworks-in-the
 -age-of-data-surveillance-online-event/
END:VEVENT
BEGIN:VTIMEZONE
TZID:Europe/Berlin
BEGIN:DAYLIGHT
TZOFFSETFROM:+0100
TZOFFSETTO:+0200
DTSTART:20250330T010000
TZNAME:CEST
END:DAYLIGHT
END:VTIMEZONE
END:VCALENDAR
