BEGIN:VCALENDAR
VERSION:2.0
PRODID:-//Events | FID-Recht//NONSGML Events//EN
CALSCALE:GREGORIAN
X-ORIGINAL-URL:https://events.intrecht.de/termine/
X-WR-CALDESC:Events | FID-Recht - Events
BEGIN:VEVENT
UID:20200602T0945Z-1591091115.9737-EO-599-1@172.16.200.141
STATUS:CONFIRMED
DTSTAMP:20260423T003135Z
CREATED:20260210T115608Z
LAST-MODIFIED:20260210T115608Z
DTSTART;VALUE=DATE:20260417
DTEND;VALUE=DATE:20260418
SUMMARY: Inter-Judicial Dialogue on Climate Change and Human Rights (Hybrid
  Event)
DESCRIPTION: 17.4.2026 / Online und Wien https://events.ceu.edu/2026-04-17/
 inter-judicial-dialogue-climate-change-and-human-rights
X-ALT-DESC;FMTTYPE=text/html: <p>17.4.2026 / Online und Wien</p><p><a href=
 "https://events.ceu.edu/2026-04-17/inter-judicial-dialogue-climate-change-a
 nd-human-rights">https://events.ceu.edu/2026-04-17/inter-judicial-dialogue-
 climate-change-and-human-rights</a></p><p>[av_button label='iCal-Export' li
 nk='./feed/eo-events' link_target='' size='small' position='center' label_d
 isplay='' title_attr='' icon_select='yes' icon='ue85b' font='entypo-fontell
 o' color='custom' custom_bg='#b5123e' custom_font='#ffffff' av_uid='' id=''
  custom_class='' admin_preview_bg='']</p>
CATEGORIES:Recht interdisziplinär
LOCATION:Hybrid
GEO:0.000000;0.000000
ORGANIZER;CN="ViFa-Recht":MAILTO:vifa-recht@sbb.spk-berlin.de
URL;VALUE=URI:https://events.intrecht.de/termine/termin/inter-judicial-dial
 ogue-on-climate-change-and-human-rights-hybrid-event/
END:VEVENT
BEGIN:VTIMEZONE
TZID:Europe/Berlin
BEGIN:DAYLIGHT
TZOFFSETFROM:+0100
TZOFFSETTO:+0200
DTSTART:20260329T010000
TZNAME:CEST
END:DAYLIGHT
END:VTIMEZONE
END:VCALENDAR
