BEGIN:VCALENDAR
VERSION:2.0
PRODID:-//Events | FID-Recht//NONSGML Events//EN
CALSCALE:GREGORIAN
X-ORIGINAL-URL:https://events.intrecht.de/termine/
X-WR-CALDESC:Events | FID-Recht - Events
BEGIN:VEVENT
UID:20200603T1418Z-1591193923.3362-EO-587-1@172.16.200.141
STATUS:CONFIRMED
DTSTAMP:20260425T151020Z
CREATED:20230327T073146Z
LAST-MODIFIED:20230327T073146Z
DTSTART;VALUE=DATE:20230605
DTEND;VALUE=DATE:20230608
SUMMARY: Intensive doctoral retreat: Critical Research in International Law
  (CRIL)
DESCRIPTION: 5.-7.6.2023 / Fort Vuren https://criticallegalthinking.com/202
 3/03/25/cfp-critical-research-in-international-law-cril/
X-ALT-DESC;FMTTYPE=text/html: <p>5.-7.6.2023 / Fort Vuren</p><p><a href="ht
 tps://criticallegalthinking.com/2023/03/25/cfp-critical-research-in-interna
 tional-law-cril/">https://criticallegalthinking.com/2023/03/25/cfp-critical
 -research-in-international-law-cril/</a></p><p>[av_button label='iCal-Expor
 t' link='./feed/eo-events' link_target='' size='small' position='center' la
 bel_display='' title_attr='' icon_select='yes' icon='ue85b' font='entypo-fo
 ntello' color='custom' custom_bg='#b5123e' custom_font='#ffffff' av_uid='' 
 id='' custom_class='' admin_preview_bg='']</p>
CATEGORIES:Europäisches / Internationales Recht
LOCATION:Ausland
GEO:0.000000;0.000000
ORGANIZER;CN="ViFa-Recht":MAILTO:vifa-recht@sbb.spk-berlin.de
URL;VALUE=URI:https://events.intrecht.de/termine/termin/intensive-doctoral-
 retreat-critical-research-in-international-law-cril/
END:VEVENT
BEGIN:VTIMEZONE
TZID:Europe/Berlin
BEGIN:DAYLIGHT
TZOFFSETFROM:+0100
TZOFFSETTO:+0200
DTSTART:20230326T010000
TZNAME:CEST
END:DAYLIGHT
END:VTIMEZONE
END:VCALENDAR
