BEGIN:VCALENDAR
VERSION:2.0
PRODID:-//Events | FID-Recht//NONSGML Events//EN
CALSCALE:GREGORIAN
X-ORIGINAL-URL:https://events.intrecht.de/termine/
X-WR-CALDESC:Events | FID-Recht - Events
BEGIN:VEVENT
UID:20200603T1418Z-1591193923.3362-EO-587-1@172.16.200.141
STATUS:CONFIRMED
DTSTAMP:20260422T211823Z
CREATED:20241202T174530Z
LAST-MODIFIED:20241202T174530Z
DTSTART;VALUE=DATE:20250625
DTEND;VALUE=DATE:20250627
SUMMARY: Intellectual Property and Capitalism (Workshop of the Internationa
 l Society for the History and Theory of Intellectual Property (ISHTIP))
DESCRIPTION: 25.-26.6.2025 / Madrid (Einreichungsfrist: 20.12.2024) https:/
 /ishtip.org/
X-ALT-DESC;FMTTYPE=text/html: <p>25.-26.6.2025 / Madrid <strong>(Einreichun
 gsfrist: 20.12.2024)</strong></p><p><a href="https://ishtip.org/">https://i
 shtip.org/</a></p><p>[av_button label='iCal-Export' link='./feed/eo-events'
  link_target='' size='small' position='center' label_display='' title_attr=
 '' icon_select='yes' icon='ue85b' font='entypo-fontello' color='custom' cus
 tom_bg='#b5123e' custom_font='#ffffff' av_uid='' id='' custom_class='' admi
 n_preview_bg='']</p>
CATEGORIES:Recht interdisziplinär
LOCATION:Ausland
GEO:0.000000;0.000000
ORGANIZER;CN="ViFa-Recht":MAILTO:vifa-recht@sbb.spk-berlin.de
URL;VALUE=URI:https://events.intrecht.de/termine/termin/intellectual-proper
 ty-and-capitalism-workshop-of-the-international-society-for-the-history-and
 -theory-of-intellectual-property-ishtip/
END:VEVENT
BEGIN:VTIMEZONE
TZID:Europe/Berlin
BEGIN:DAYLIGHT
TZOFFSETFROM:+0100
TZOFFSETTO:+0200
DTSTART:20250330T010000
TZNAME:CEST
END:DAYLIGHT
END:VTIMEZONE
END:VCALENDAR
