BEGIN:VCALENDAR
VERSION:2.0
PRODID:-//Events | FID-Recht//NONSGML Events//EN
CALSCALE:GREGORIAN
X-ORIGINAL-URL:https://events.intrecht.de/termine/
X-WR-CALDESC:Events | FID-Recht - Events
BEGIN:VEVENT
UID:20210107T0619Z-1610000383.4264-EO-2988-1@172.16.200.141
STATUS:CONFIRMED
DTSTAMP:20260422T175629Z
CREATED:20201230T145313Z
LAST-MODIFIED:20201230T145313Z
DTSTART;TZID=Europe/Berlin:20210126T180000
DTEND;TZID=Europe/Berlin:20210126T200000
SUMMARY: Integration\, interdisziplinär – Gesellschaftliche Integration dur
 ch Verfassung? (mit Oliver Lembcke und Michaela Hailbronner) (Online-Werkst
 attgespräch)
DESCRIPTION: 26.1.2021\, Online https://www.rewi.hu-berlin.de/de/lf/oe/lsi/
 termine/integration-interdisziplinaer-oliver-lembcke-und-michaela-hailbronn
 er-gesellschaftliche-integration-durch-verfassung  
X-ALT-DESC;FMTTYPE=text/html: <p>26.1.2021\, Online</p><p><a href="https://
 www.rewi.hu-berlin.de/de/lf/oe/lsi/termine/integration-interdisziplinaer-ol
 iver-lembcke-und-michaela-hailbronner-gesellschaftliche-integration-durch-v
 erfassung">https://www.rewi.hu-berlin.de/de/lf/oe/lsi/termine/integration-i
 nterdisziplinaer-oliver-lembcke-und-michaela-hailbronner-gesellschaftliche-
 integration-durch-verfassung</a></p><p> </p><p>[av_button label='iCal-Expor
 t' link='./feed/eo-events' link_target='' size='small' position='center' la
 bel_display='' title_attr='' icon_select='yes' icon='ue85b' font='entypo-fo
 ntello' color='custom' custom_bg='#b5123e' custom_font='#ffffff' av_uid='' 
 id='' custom_class='' admin_preview_bg='']</p>
CATEGORIES:Öffentliches Recht,Recht interdisziplinär
LOCATION:Online
GEO:0.000000;0.000000
ORGANIZER;CN="ViFa-Recht":MAILTO:vifa-recht@sbb.spk-berlin.de
URL;VALUE=URI:https://events.intrecht.de/termine/termin/integration-interdi
 sziplinaer-gesellschaftliche-integration-durch-verfassung-mit-oliver-lembck
 e-und-michaela-hailbronner-online-werkstattgespraech/
END:VEVENT
BEGIN:VTIMEZONE
TZID:Europe/Berlin
BEGIN:STANDARD
TZOFFSETFROM:+0200
TZOFFSETTO:+0100
DTSTART:20201025T010000
TZNAME:CET
END:STANDARD
END:VTIMEZONE
END:VCALENDAR
