BEGIN:VCALENDAR
VERSION:2.0
PRODID:-//Events | FID-Recht//NONSGML Events//EN
CALSCALE:GREGORIAN
X-ORIGINAL-URL:https://events.intrecht.de/termine/
X-WR-CALDESC:Events | FID-Recht - Events
BEGIN:VEVENT
UID:20220526T1111Z-1653563473.8776-EO-4050-1@172.16.200.151
STATUS:CONFIRMED
DTSTAMP:20260421T115505Z
CREATED:20220524T133933Z
LAST-MODIFIED:20220524T134036Z
DTSTART;VALUE=DATE:20221005
DTEND;VALUE=DATE:20221007
SUMMARY: Insolvency Law in Times of Crisis (Tagung)
DESCRIPTION: 5.-6.10.2022\, Dubrovnik (Frist für Einreichungen: 15.6.2022) 
 Academic Forum Events – INSOL Europe (insol-europe.org)  
X-ALT-DESC;FMTTYPE=text/html: <p>5.-6.10.2022\, Dubrovnik (Frist für Einrei
 chungen: 15.6.2022)</p><p><a href="https://www.insol-europe.org/academic-fo
 rum-events">Academic Forum Events - INSOL Europe (insol-europe.org)</a></p>
 <p> </p><p>[av_button label='iCal-Export' link='./feed/eo-events' link_targ
 et='' size='small' position='center' label_display='' title_attr='' icon_se
 lect='yes' icon='ue85b' font='entypo-fontello' color='custom' custom_bg='#b
 5123e' custom_font='#ffffff' av_uid='' id='' custom_class='' admin_preview_
 bg='']</p>
CATEGORIES:Zivilrecht
LOCATION:Ausland
GEO:0.000000;0.000000
ORGANIZER;CN="ViFa-Recht":MAILTO:vifa-recht@sbb.spk-berlin.de
URL;VALUE=URI:https://events.intrecht.de/termine/termin/insolvency-law-in-t
 imes-of-crisis-tagung/
END:VEVENT
BEGIN:VTIMEZONE
TZID:Europe/Berlin
BEGIN:DAYLIGHT
TZOFFSETFROM:+0100
TZOFFSETTO:+0200
DTSTART:20220327T010000
TZNAME:CEST
END:DAYLIGHT
END:VTIMEZONE
END:VCALENDAR
