BEGIN:VCALENDAR
VERSION:2.0
PRODID:-//Events | FID-Recht//NONSGML Events//EN
CALSCALE:GREGORIAN
X-ORIGINAL-URL:https://events.intrecht.de/termine/
X-WR-CALDESC:Events | FID-Recht - Events
BEGIN:VEVENT
UID:20220527T1007Z-1653646033.1066-EO-4044-1@172.16.200.151
STATUS:CONFIRMED
DTSTAMP:20260419T150946Z
CREATED:20220524T134058Z
LAST-MODIFIED:20220524T134151Z
DTSTART;VALUE=DATE:20221006
DTEND;VALUE=DATE:20221009
SUMMARY: INSOL Conference 2022 – Resilience in the face of adversity (Tagun
 g)
DESCRIPTION: 6.-8.10.2022\, Dubrovnik 2022 Events – INSOL Europe (insol-eur
 ope.org)  
X-ALT-DESC;FMTTYPE=text/html: <p>6.-8.10.2022\, Dubrovnik</p><p><a href="ht
 tps://www.insol-europe.org/events/0/start_date/asc/2022">2022 Events - INSO
 L Europe (insol-europe.org)</a></p><p> </p><p>[av_button label='iCal-Export
 ' link='./feed/eo-events' link_target='' size='small' position='center' lab
 el_display='' title_attr='' icon_select='yes' icon='ue85b' font='entypo-fon
 tello' color='custom' custom_bg='#b5123e' custom_font='#ffffff' av_uid='' i
 d='' custom_class='' admin_preview_bg='']</p>
CATEGORIES:Zivilrecht
LOCATION:Ausland
GEO:0.000000;0.000000
ORGANIZER;CN="ViFa-Recht":MAILTO:vifa-recht@sbb.spk-berlin.de
URL;VALUE=URI:https://events.intrecht.de/termine/termin/insol-conference-20
 22-resilience-in-the-face-of-adversity-tagung/
END:VEVENT
BEGIN:VTIMEZONE
TZID:Europe/Berlin
BEGIN:DAYLIGHT
TZOFFSETFROM:+0100
TZOFFSETTO:+0200
DTSTART:20220327T010000
TZNAME:CEST
END:DAYLIGHT
END:VTIMEZONE
END:VCALENDAR
