BEGIN:VCALENDAR
VERSION:2.0
PRODID:-//Events | FID-Recht//NONSGML Events//EN
CALSCALE:GREGORIAN
X-ORIGINAL-URL:https://events.intrecht.de/termine/
X-WR-CALDESC:Events | FID-Recht - Events
BEGIN:VEVENT
UID:20200603T1418Z-1591193923.3362-EO-587-1@172.16.200.141
STATUS:CONFIRMED
DTSTAMP:20260423T084800Z
CREATED:20250225T160139Z
LAST-MODIFIED:20250225T160139Z
DTSTART;VALUE=DATE:20250704
DTEND;VALUE=DATE:20250706
SUMMARY: Innovation durch Regulierung? Perspektiven des europäischen Daten-
 \, Immaterialgüter-\, Medien- und Wettbewerbsrechts (10. Tagung GRUR Junge 
 Wissenschaft Kolloquium zum Gewerblichen Rechtsschutz\, Urheber- und Medien
 recht)
DESCRIPTION: 4.-5.7.2025 / München (Einreichungsfrist: 10.3.2025) https://w
 ww.gov.sot.tum.de/fileadmin/w00bzh/lrd/_my_direct_uploads/GRUR_JungeWissens
 chaft2025_CfP.pdf
X-ALT-DESC;FMTTYPE=text/html: <p>4.-5.7.2025 / München <strong>(Einreichung
 sfrist: 10.3.2025)</strong></p><p><a href="https://www.gov.sot.tum.de/filea
 dmin/w00bzh/lrd/_my_direct_uploads/GRUR_JungeWissenschaft2025_CfP.pdf">http
 s://www.gov.sot.tum.de/fileadmin/w00bzh/lrd/_my_direct_uploads/GRUR_JungeWi
 ssenschaft2025_CfP.pdf</a></p><p>[av_button label='iCal-Export' link='./fee
 d/eo-events' link_target='' size='small' position='center' label_display=''
  title_attr='' icon_select='yes' icon='ue85b' font='entypo-fontello' color=
 'custom' custom_bg='#b5123e' custom_font='#ffffff' av_uid='' id='' custom_c
 lass='' admin_preview_bg='']</p>
CATEGORIES:Zivilrecht
LOCATION:Inland
GEO:0.000000;0.000000
ORGANIZER;CN="ViFa-Recht":MAILTO:vifa-recht@sbb.spk-berlin.de
URL;VALUE=URI:https://events.intrecht.de/termine/termin/innovation-durch-re
 gulierung-perspektiven-des-europaeischen-daten-immaterialgueter-medien-und-
 wettbewerbsrechts-10-tagung-grur-junge-wissenschaft-kolloquium-zum-gewerbli
 chen-rechtsschutz-urhe/
END:VEVENT
BEGIN:VTIMEZONE
TZID:Europe/Berlin
BEGIN:DAYLIGHT
TZOFFSETFROM:+0100
TZOFFSETTO:+0200
DTSTART:20250330T010000
TZNAME:CEST
END:DAYLIGHT
END:VTIMEZONE
END:VCALENDAR
