BEGIN:VCALENDAR
VERSION:2.0
PRODID:-//Events | FID-Recht//NONSGML Events//EN
CALSCALE:GREGORIAN
X-ORIGINAL-URL:https://events.intrecht.de/termine/
X-WR-CALDESC:Events | FID-Recht - Events
BEGIN:VEVENT
UID:20200603T1418Z-1591193923.3362-EO-587-1@172.16.200.141
STATUS:CONFIRMED
DTSTAMP:20260422T211303Z
CREATED:20240417T130409Z
LAST-MODIFIED:20240417T130642Z
DTSTART;VALUE=DATE:20240620
DTEND;VALUE=DATE:20240622
SUMMARY: Informed Consent to Dispute Resolution Agreements (Conference)
DESCRIPTION: 20.-21.6.2024 / Bremen (Anmeldefrist: 30.4.2024) https://www.u
 ni-bremen.de/en/jura/ifh/news?sword_list%5B0%5D=d.h&no_cache=1
X-ALT-DESC;FMTTYPE=text/html: <p>20.-21.6.2024 / Bremen <strong>(Anmeldefri
 st: 30.4.2024)</strong></p><p><a href="https://www.uni-bremen.de/en/jura/if
 h/news?sword_list%5B0%5D=d.h&no_cache=1">https://www.uni-bremen.de/en/jura/
 ifh/news?sword_list%5B0%5D=d.h&no_cache=1</a></p><p>[av_button label='iCal-
 Export' link='./feed/eo-events' link_target='' size='small' position='cente
 r' label_display='' title_attr='' icon_select='yes' icon='ue85b' font='enty
 po-fontello' color='custom' custom_bg='#b5123e' custom_font='#ffffff' av_ui
 d='' id='' custom_class='' admin_preview_bg='']</p>
CATEGORIES:Zivilrecht
LOCATION:Inland
GEO:0.000000;0.000000
ORGANIZER;CN="ViFa-Recht":MAILTO:vifa-recht@sbb.spk-berlin.de
URL;VALUE=URI:https://events.intrecht.de/termine/termin/informed-consent-to
 -dispute-resolution-agreements-conference/
END:VEVENT
BEGIN:VTIMEZONE
TZID:Europe/Berlin
BEGIN:DAYLIGHT
TZOFFSETFROM:+0100
TZOFFSETTO:+0200
DTSTART:20240331T010000
TZNAME:CEST
END:DAYLIGHT
END:VTIMEZONE
END:VCALENDAR
