BEGIN:VCALENDAR
VERSION:2.0
PRODID:-//Events | FID-Recht//NONSGML Events//EN
CALSCALE:GREGORIAN
X-ORIGINAL-URL:https://events.intrecht.de/termine/
X-WR-CALDESC:Events | FID-Recht - Events
BEGIN:VEVENT
UID:20200601T2339Z-1591054763.1143-EO-572-1@172.16.200.141
STATUS:CONFIRMED
DTSTAMP:20260421T170138Z
CREATED:20200515T164422Z
LAST-MODIFIED:20200520T073233Z
DTSTART;VALUE=DATE:20200520
DTEND;VALUE=DATE:20200521
SUMMARY: Informational Ecosystems – Regulating for and from the Abyss (Work
 shop)
DESCRIPTION: 20.5.2020\, Bournemouth https://www.bournemouth.ac.uk/events/i
 nformational-ecosystems-regulating-abyss-workshop  
X-ALT-DESC;FMTTYPE=text/html: <p><span style="font-size: 11.0pt\; font-fami
 ly: 'Calibri'\,sans-serif\;">20.5.2020\, Bournemouth</span></p><p><span sty
 le="font-size: 11.0pt\; font-family: 'Calibri'\,sans-serif\;"><a href="http
 s://www.bournemouth.ac.uk/events/informational-ecosystems-regulating-abyss-
 workshop" target="_blank" rel="noopener noreferrer">https://www.bournemouth
 .ac.uk/events/informational-ecosystems-regulating-abyss-workshop</a></span>
 </p><p> </p><p>[av_button label='iCal-Export' link='./feed/eo-events' link_
 target='' size='small' position='center' label_display='' title_attr='' ico
 n_select='yes' icon='ue85b' font='entypo-fontello' color='custom' custom_bg
 ='#b5123e' custom_font='#ffffff' av_uid='' id='' custom_class='' admin_prev
 iew_bg='']</p>
CATEGORIES:Europäisches / Internationales Recht,Recht interdisziplinär
LOCATION:Ausland
GEO:0.000000;0.000000
ORGANIZER;CN="ViFa-Recht":MAILTO:vifa-recht@sbb.spk-berlin.de
URL;VALUE=URI:https://events.intrecht.de/termine/termin/informational-ecosy
 stems-regulating-for-and-from-the-abyss-workshop/
END:VEVENT
BEGIN:VTIMEZONE
TZID:Europe/Berlin
BEGIN:DAYLIGHT
TZOFFSETFROM:+0100
TZOFFSETTO:+0200
DTSTART:20200329T010000
TZNAME:CEST
END:DAYLIGHT
END:VTIMEZONE
END:VCALENDAR
