BEGIN:VCALENDAR
VERSION:2.0
PRODID:-//Events | FID-Recht//NONSGML Events//EN
CALSCALE:GREGORIAN
X-ORIGINAL-URL:https://events.intrecht.de/termine/
X-WR-CALDESC:Events | FID-Recht - Events
BEGIN:VEVENT
UID:20220118T1722Z-1642526574.25-EO-4497-1@172.16.200.141
STATUS:CONFIRMED
DTSTAMP:20260425T221814Z
CREATED:20220114T170454Z
LAST-MODIFIED:20220114T170454Z
DTSTART;VALUE=DATE:20220127
DTEND;VALUE=DATE:20220128
SUMMARY: Infertility and Assisted Conception in the Muslim World – Social\,
  Religious\, and Legal Considerations (with Soraya Tremayne) (Online-Vortra
 g)
DESCRIPTION: 27.1.2022\, Online Afternoon Talk on Islamic Law: Prof. Soraya
  Tremayne / Prof. Marcia C. Inhorn (mpipriv.de)  
X-ALT-DESC;FMTTYPE=text/html: <p>27.1.2022\, Online</p><p><a href="https://
 events.mpipriv.de/afternoontalk-tremayne-inhorn">Afternoon Talk on Islamic 
 Law: Prof. Soraya Tremayne / Prof. Marcia C. Inhorn (mpipriv.de)</a></p><p>
  </p><p>[av_button label='iCal-Export' link='./feed/eo-events' link_target=
 '' size='small' position='center' label_display='' title_attr='' icon_selec
 t='yes' icon='ue85b' font='entypo-fontello' color='custom' custom_bg='#b512
 3e' custom_font='#ffffff' av_uid='' id='' custom_class='' admin_preview_bg=
 '']</p>
CATEGORIES:Zivilrecht
LOCATION:Online
GEO:0.000000;0.000000
ORGANIZER;CN="ViFa-Recht":MAILTO:vifa-recht@sbb.spk-berlin.de
URL;VALUE=URI:https://events.intrecht.de/termine/termin/infertility-and-ass
 isted-conception-in-the-muslim-world-social-religious-and-legal-considerati
 ons-with-soraya-tremayne-online-vortrag/
END:VEVENT
BEGIN:VTIMEZONE
TZID:Europe/Berlin
BEGIN:STANDARD
TZOFFSETFROM:+0200
TZOFFSETTO:+0100
DTSTART:20211031T010000
TZNAME:CET
END:STANDARD
END:VTIMEZONE
END:VCALENDAR
