BEGIN:VCALENDAR
VERSION:2.0
PRODID:-//Events | FID-Recht//NONSGML Events//EN
CALSCALE:GREGORIAN
X-ORIGINAL-URL:https://events.intrecht.de/termine/
X-WR-CALDESC:Events | FID-Recht - Events
BEGIN:VEVENT
UID:20201025T0603Z-1603605817.144-EO-1911-1@172.16.200.141
STATUS:CONFIRMED
DTSTAMP:20260422T112055Z
CREATED:20201020T131343Z
LAST-MODIFIED:20201128T184031Z
DTSTART;VALUE=DATE:20201208
DTEND;VALUE=DATE:20201209
SUMMARY: ABGESAGT: Inequalities and Corporate Powers in International Law (
 mit Grietje Baars) (Online-Vortrag)
DESCRIPTION: 8.12.2020\, Online https://www.rewi.hu-berlin.de/de/lf/oe/lsi/
 termine/copy_of_steffen-mau-ostdeutsche-transformationen-eine-ungleichheits
 soziologische-perspektive    
X-ALT-DESC;FMTTYPE=text/html: <p>8.12.2020\, Online</p><p><a href="https://
 www.rewi.hu-berlin.de/de/lf/oe/lsi/termine/copy_of_steffen-mau-ostdeutsche-
 transformationen-eine-ungleichheitssoziologische-perspektive">https://www.r
 ewi.hu-berlin.de/de/lf/oe/lsi/termine/copy_of_steffen-mau-ostdeutsche-trans
 formationen-eine-ungleichheitssoziologische-perspektive</a></p><p> </p><p> 
 </p><p>[av_button label='iCal-Export' link='./feed/eo-events' link_target='
 ' size='small' position='center' label_display='' title_attr='' icon_select
 ='yes' icon='ue85b' font='entypo-fontello' color='custom' custom_bg='#b5123
 e' custom_font='#ffffff' av_uid='' id='' custom_class='' admin_preview_bg='
 ']</p>
CATEGORIES:Europäisches / Internationales Recht,Recht interdisziplinär
LOCATION:Online
GEO:0.000000;0.000000
ORGANIZER;CN="ViFa-Recht":MAILTO:vifa-recht@sbb.spk-berlin.de
URL;VALUE=URI:https://events.intrecht.de/termine/termin/inequalities-and-co
 rporate-powers-in-international-law-mit-grietje-baars-online-vortrag/
END:VEVENT
BEGIN:VTIMEZONE
TZID:Europe/Berlin
BEGIN:STANDARD
TZOFFSETFROM:+0200
TZOFFSETTO:+0100
DTSTART:20201025T010000
TZNAME:CET
END:STANDARD
END:VTIMEZONE
END:VCALENDAR
