BEGIN:VCALENDAR
VERSION:2.0
PRODID:-//Events | FID-Recht//NONSGML Events//EN
CALSCALE:GREGORIAN
X-ORIGINAL-URL:https://events.intrecht.de/termine/
X-WR-CALDESC:Events | FID-Recht - Events
BEGIN:VEVENT
UID:20200603T1418Z-1591193923.3362-EO-587-1@172.16.200.141
STATUS:CONFIRMED
DTSTAMP:20260425T132444Z
CREATED:20230905T104155Z
LAST-MODIFIED:20230905T104155Z
DTSTART;VALUE=DATE:20231203
DTEND;VALUE=DATE:20231205
SUMMARY: Indo-Pacific Strategies and International Law (2023 ILA-ASIL Asia-
 Pacific Research Forum)
DESCRIPTION: 3.-4.12.2023 / Taipeh https://drive.google.com/file/d/1rc2KCto
 Uh_3Ci1B3duteOXFAnte1saAU/view
X-ALT-DESC;FMTTYPE=text/html: <p>3.-4.12.2023 / Taipeh</p><p><a href="https
 ://drive.google.com/file/d/1rc2KCtoUh_3Ci1B3duteOXFAnte1saAU/view">https://
 drive.google.com/file/d/1rc2KCtoUh_3Ci1B3duteOXFAnte1saAU/view</a></p><p>[a
 v_button label='iCal-Export' link='./feed/eo-events' link_target='' size='s
 mall' position='center' label_display='' title_attr='' icon_select='yes' ic
 on='ue85b' font='entypo-fontello' color='custom' custom_bg='#b5123e' custom
 _font='#ffffff' av_uid='' id='' custom_class='' admin_preview_bg='']</p>
CATEGORIES:Europäisches / Internationales Recht
LOCATION:Ausland
GEO:0.000000;0.000000
ORGANIZER;CN="ViFa-Recht":MAILTO:vifa-recht@sbb.spk-berlin.de
URL;VALUE=URI:https://events.intrecht.de/termine/termin/indo-pacific-strate
 gies-and-international-law-2023-ila-asil-asia-pacific-research-forum/
END:VEVENT
BEGIN:VTIMEZONE
TZID:Europe/Berlin
BEGIN:STANDARD
TZOFFSETFROM:+0200
TZOFFSETTO:+0100
DTSTART:20231029T010000
TZNAME:CET
END:STANDARD
END:VTIMEZONE
END:VCALENDAR
