BEGIN:VCALENDAR
VERSION:2.0
PRODID:-//Events | FID-Recht//NONSGML Events//EN
CALSCALE:GREGORIAN
X-ORIGINAL-URL:https://events.intrecht.de/termine/
X-WR-CALDESC:Events | FID-Recht - Events
BEGIN:VEVENT
UID:20201216T2257Z-1608159423.825-EO-2571-1@172.16.200.141
STATUS:CONFIRMED
DTSTAMP:20260425T195403Z
CREATED:20201201T174500Z
LAST-MODIFIED:20201201T174500Z
DTSTART;VALUE=DATE:20201130
DTEND;VALUE=DATE:20201130
SUMMARY: Individual reparation claims and holocaust research: The Forschung
 sgruppe Berliner Widerstand 1933-1945 as a case study (mit Gideon Reuveni) 
 (Online-Vortrag)
DESCRIPTION: 30.11.2020\, Online https://www.wiko-greifswald.de/programm/al
 lgemeines/veranstaltungskalender/veranstaltung/n/individual-reparation-clai
 ms-and-holocaust-research-the-forschungsgruppe-berliner-widerstand-1933-1/ 
    
X-ALT-DESC;FMTTYPE=text/html: <p>30.11.2020\, Online</p><p><a href="https:/
 /www.wiko-greifswald.de/programm/allgemeines/veranstaltungskalender/veranst
 altung/n/individual-reparation-claims-and-holocaust-research-the-forschungs
 gruppe-berliner-widerstand-1933-1/">https://www.wiko-greifswald.de/programm
 /allgemeines/veranstaltungskalender/veranstaltung/n/individual-reparation-c
 laims-and-holocaust-research-the-forschungsgruppe-berliner-widerstand-1933-
 1/</a></p><p><strong> </strong></p><p> </p><p>[av_button label='iCal-Export
 ' link='./feed/eo-events' link_target='' size='small' position='center' lab
 el_display='' title_attr='' icon_select='yes' icon='ue85b' font='entypo-fon
 tello' color='custom' custom_bg='#b5123e' custom_font='#ffffff' av_uid='' i
 d='' custom_class='' admin_preview_bg='']</p>
CATEGORIES:Recht interdisziplinär
LOCATION:Online
GEO:0.000000;0.000000
ORGANIZER;CN="ViFa-Recht":MAILTO:vifa-recht@sbb.spk-berlin.de
URL;VALUE=URI:https://events.intrecht.de/termine/termin/individual-reparati
 on-claims-and-holocaust-research-the-forschungsgruppe-berliner-widerstand-1
 933-1945-as-a-case-study-mit-gideon-reuveni-online-vortrag/
END:VEVENT
BEGIN:VTIMEZONE
TZID:Europe/Berlin
BEGIN:STANDARD
TZOFFSETFROM:+0200
TZOFFSETTO:+0100
DTSTART:20201025T010000
TZNAME:CET
END:STANDARD
END:VTIMEZONE
END:VCALENDAR
