BEGIN:VCALENDAR
VERSION:2.0
PRODID:-//Events | FID-Recht//NONSGML Events//EN
CALSCALE:GREGORIAN
X-ORIGINAL-URL:https://events.intrecht.de/termine/
X-WR-CALDESC:Events | FID-Recht - Events
BEGIN:VEVENT
UID:20200603T1418Z-1591193923.3362-EO-587-1@172.16.200.141
STATUS:CONFIRMED
DTSTAMP:20260426T012251Z
CREATED:20230622T090724Z
LAST-MODIFIED:20230622T090724Z
DTSTART;VALUE=DATE:20230721
DTEND;VALUE=DATE:20230722
SUMMARY: Indigenous Peoples and Sustainability (Conference)
DESCRIPTION: 21.7.2023 / London https://www.eventbrite.co.uk/e/indigenous-p
 eoples-and-sustainability-tickets-657507642057?aff=oddtdtcreator
X-ALT-DESC;FMTTYPE=text/html: <p>21.7.2023 / London</p><p><a href="https://
 www.eventbrite.co.uk/e/indigenous-peoples-and-sustainability-tickets-657507
 642057?aff=oddtdtcreator">https://www.eventbrite.co.uk/e/indigenous-peoples
 -and-sustainability-tickets-657507642057?aff=oddtdtcreator</a></p><p>[av_bu
 tton label='iCal-Export' link='./feed/eo-events' link_target='' size='small
 ' position='center' label_display='' title_attr='' icon_select='yes' icon='
 ue85b' font='entypo-fontello' color='custom' custom_bg='#b5123e' custom_fon
 t='#ffffff' av_uid='' id='' custom_class='' admin_preview_bg='']</p>
CATEGORIES:Recht interdisziplinär
LOCATION:Ausland
GEO:0.000000;0.000000
ORGANIZER;CN="ViFa-Recht":MAILTO:vifa-recht@sbb.spk-berlin.de
URL;VALUE=URI:https://events.intrecht.de/termine/termin/indigenous-peoples-
 and-sustainability-conference/
END:VEVENT
BEGIN:VTIMEZONE
TZID:Europe/Berlin
BEGIN:DAYLIGHT
TZOFFSETFROM:+0100
TZOFFSETTO:+0200
DTSTART:20230326T010000
TZNAME:CEST
END:DAYLIGHT
END:VTIMEZONE
END:VCALENDAR
