BEGIN:VCALENDAR
VERSION:2.0
PRODID:-//Events | FID-Recht//NONSGML Events//EN
CALSCALE:GREGORIAN
X-ORIGINAL-URL:https://events.intrecht.de/termine/
X-WR-CALDESC:Events | FID-Recht - Events
BEGIN:VEVENT
UID:20200603T1418Z-1591193923.3362-EO-587-1@172.16.200.141
STATUS:CONFIRMED
DTSTAMP:20260423T035116Z
CREATED:20250423T132119Z
LAST-MODIFIED:20250423T132119Z
DTSTART;VALUE=DATE:20250703
DTEND;VALUE=DATE:20250704
SUMMARY: In the Name of National Security: The Fragility of Human Rights (W
 orkshop)
DESCRIPTION: 3.7.2025 / Madrid (Einreichungsfrist: 25.4.2025) https://www.l
 aw.cam.ac.uk/press/news/2025/04/call-papers-name-national-security-fragilit
 y-human-rights-3-july-2025
X-ALT-DESC;FMTTYPE=text/html: <p>3.7.2025 / Madrid <strong>(Einreichungsfri
 st: 25.4.2025)</strong></p><p><a href="https://www.law.cam.ac.uk/press/news
 /2025/04/call-papers-name-national-security-fragility-human-rights-3-july-2
 025">https://www.law.cam.ac.uk/press/news/2025/04/call-papers-name-national
 -security-fragility-human-rights-3-july-2025</a></p><p>[av_button label='iC
 al-Export' link='./feed/eo-events' link_target='' size='small' position='ce
 nter' label_display='' title_attr='' icon_select='yes' icon='ue85b' font='e
 ntypo-fontello' color='custom' custom_bg='#b5123e' custom_font='#ffffff' av
 _uid='' id='' custom_class='' admin_preview_bg='']</p>
CATEGORIES:Europäisches / Internationales Recht
LOCATION:Ausland
GEO:0.000000;0.000000
ORGANIZER;CN="ViFa-Recht":MAILTO:vifa-recht@sbb.spk-berlin.de
URL;VALUE=URI:https://events.intrecht.de/termine/termin/in-the-name-of-nati
 onal-security-the-fragility-of-human-rights-workshop/
END:VEVENT
BEGIN:VTIMEZONE
TZID:Europe/Berlin
BEGIN:DAYLIGHT
TZOFFSETFROM:+0100
TZOFFSETTO:+0200
DTSTART:20250330T010000
TZNAME:CEST
END:DAYLIGHT
END:VTIMEZONE
END:VCALENDAR
