BEGIN:VCALENDAR
VERSION:2.0
PRODID:-//Events | FID-Recht//NONSGML Events//EN
CALSCALE:GREGORIAN
X-ORIGINAL-URL:https://events.intrecht.de/termine/
X-WR-CALDESC:Events | FID-Recht - Events
BEGIN:VEVENT
UID:20220203T1703Z-1643907795.8818-EO-5012-1@172.16.200.141
STATUS:CONFIRMED
DTSTAMP:20260421T133438Z
CREATED:20220127T203849Z
LAST-MODIFIED:20220127T203849Z
DTSTART;VALUE=DATE:20220208
DTEND;VALUE=DATE:20220211
SUMMARY: In dubio – Zweifel vor Gericht im Zeitalter der Aufklärung ((Onlin
 e-)Workshop)
DESCRIPTION: 8.-10.2.2022\, Münster/Online Kalender (uni-muenster.de)  
X-ALT-DESC;FMTTYPE=text/html: <p>8.-10.2.2022\, Münster/Online</p><p><a hre
 f="https://www.uni-muenster.de/de/veranstaltungskalender/prod/ausgabe/termi
 ne.php?layout=toptermin-detail&id=32603&einrichtungsid=203">Kalender (uni-m
 uenster.de)</a></p><p> </p><p>[av_button label='iCal-Export' link='./feed/e
 o-events' link_target='' size='small' position='center' label_display='' ti
 tle_attr='' icon_select='yes' icon='ue85b' font='entypo-fontello' color='cu
 stom' custom_bg='#b5123e' custom_font='#ffffff' av_uid='' id='' custom_clas
 s='' admin_preview_bg='']</p>
CATEGORIES:Recht interdisziplinär
LOCATION:Online
GEO:0.000000;0.000000
ORGANIZER;CN="ViFa-Recht":MAILTO:vifa-recht@sbb.spk-berlin.de
URL;VALUE=URI:https://events.intrecht.de/termine/termin/in-dubio-zweifel-vo
 r-gericht-im-zeitalter-der-aufklaerung-online-workshop/
END:VEVENT
BEGIN:VTIMEZONE
TZID:Europe/Berlin
BEGIN:STANDARD
TZOFFSETFROM:+0200
TZOFFSETTO:+0100
DTSTART:20211031T010000
TZNAME:CET
END:STANDARD
END:VTIMEZONE
END:VCALENDAR
