BEGIN:VCALENDAR
VERSION:2.0
PRODID:-//Events | FID-Recht//NONSGML Events//EN
CALSCALE:GREGORIAN
X-ORIGINAL-URL:https://events.intrecht.de/termine/
X-WR-CALDESC:Events | FID-Recht - Events
BEGIN:VEVENT
UID:20211218T0440Z-1639802434.5463-EO-4745-1@172.16.200.141
STATUS:CONFIRMED
DTSTAMP:20260422T125134Z
CREATED:20211216T124717Z
LAST-MODIFIED:20211216T124717Z
DTSTART;VALUE=DATE:20211209
DTEND;VALUE=DATE:20211210
SUMMARY: Imprensa e produção do direito: Angola e Brasil\, séculos XIX e XX
  (Online-Tagung)
DESCRIPTION: 9.12.2021\, Online Global Legal History on the Ground – Starts
 eite | Facebook  
X-ALT-DESC;FMTTYPE=text/html: <p>9.12.2021\, Online</p><p><a href="https://
 www.facebook.com/GLHground/photos/pcb.413936540404884/413936413738230/?type
 =3&theater">Global Legal History on the Ground - Startseite | Facebook</a><
 /p><p> </p><p>[av_button label='iCal-Export' link='./feed/eo-events' link_t
 arget='' size='small' position='center' label_display='' title_attr='' icon
 _select='yes' icon='ue85b' font='entypo-fontello' color='custom' custom_bg=
 '#b5123e' custom_font='#ffffff' av_uid='' id='' custom_class='' admin_previ
 ew_bg='']</p>
CATEGORIES:Recht interdisziplinär
LOCATION:Online
GEO:0.000000;0.000000
ORGANIZER;CN="ViFa-Recht":MAILTO:vifa-recht@sbb.spk-berlin.de
URL;VALUE=URI:https://events.intrecht.de/termine/termin/imprensa-e-producao
 -do-direito-angola-e-brasil-seculos-xix-e-xx-online-tagung/
END:VEVENT
BEGIN:VTIMEZONE
TZID:Europe/Berlin
BEGIN:STANDARD
TZOFFSETFROM:+0200
TZOFFSETTO:+0100
DTSTART:20211031T010000
TZNAME:CET
END:STANDARD
END:VTIMEZONE
END:VCALENDAR
