BEGIN:VCALENDAR
VERSION:2.0
PRODID:-//Events | FID-Recht//NONSGML Events//EN
CALSCALE:GREGORIAN
X-ORIGINAL-URL:https://events.intrecht.de/termine/
X-WR-CALDESC:Events | FID-Recht - Events
BEGIN:VEVENT
UID:20201118T1217Z-1605701840.6311-EO-2191-1@172.16.200.141
STATUS:CONFIRMED
DTSTAMP:20260422T193946Z
CREATED:20201105T195156Z
LAST-MODIFIED:20201105T195156Z
DTSTART;VALUE=DATE:20201124
DTEND;VALUE=DATE:20201124
SUMMARY: Imperiale Grenzgänge/r – Erfahrungsmuster und Gruppenprofile westa
 frikanischer Soldaten und Veteranen der französischen Kolonialarmee (mit Br
 igitte Reinwald) (Online-Vortrag)
DESCRIPTION: 24.11.2020\, Online https://www.uni-muenster.de/Religion-und-P
 olitik/aktuelles/2020/aktuell/PM_Ringvorlesung_Imperien.html    
X-ALT-DESC;FMTTYPE=text/html: <p>24.11.2020\, Online</p><p><a href="https:/
 /www.uni-muenster.de/Religion-und-Politik/aktuelles/2020/aktuell/PM_Ringvor
 lesung_Imperien.html">https://www.uni-muenster.de/Religion-und-Politik/aktu
 elles/2020/aktuell/PM_Ringvorlesung_Imperien.html</a></p><p> </p><p> </p><p
 >[av_button label='iCal-Export' link='./feed/eo-events' link_target='' size
 ='small' position='center' label_display='' title_attr='' icon_select='yes'
  icon='ue85b' font='entypo-fontello' color='custom' custom_bg='#b5123e' cus
 tom_font='#ffffff' av_uid='' id='' custom_class='' admin_preview_bg='']</p>
CATEGORIES:Recht interdisziplinär
ORGANIZER;CN="ViFa-Recht":MAILTO:vifa-recht@sbb.spk-berlin.de
URL;VALUE=URI:https://events.intrecht.de/termine/termin/imperiale-grenzgaen
 ge-r-erfahrungsmuster-und-gruppenprofile-westafrikanischer-soldaten-und-vet
 eranen-der-franzoesischen-kolonialarmee-mit-brigitte-reinwald-online-vortra
 g/
END:VEVENT
BEGIN:VTIMEZONE
TZID:Europe/Berlin
BEGIN:STANDARD
TZOFFSETFROM:+0200
TZOFFSETTO:+0100
DTSTART:20201025T010000
TZNAME:CET
END:STANDARD
END:VTIMEZONE
END:VCALENDAR
