BEGIN:VCALENDAR
VERSION:2.0
PRODID:-//Events | FID-Recht//NONSGML Events//EN
CALSCALE:GREGORIAN
X-ORIGINAL-URL:https://events.intrecht.de/termine/
X-WR-CALDESC:Events | FID-Recht - Events
BEGIN:VEVENT
UID:20200603T1418Z-1591193923.3362-EO-587-1@172.16.200.141
STATUS:CONFIRMED
DTSTAMP:20260425T200139Z
CREATED:20231004T083636Z
LAST-MODIFIED:20231004T083636Z
DTSTART;VALUE=DATE:20231106
DTEND;VALUE=DATE:20231107
SUMMARY: Immunity and International Criminal Tribunals (Annual Grotius Lect
 ure 2023)
DESCRIPTION: 6.11.2023 / London Annual Grotius Lecture 2023: Immunity and I
 nternational Criminal Tribunals (biicl.org)
X-ALT-DESC;FMTTYPE=text/html: <p>6.11.2023 / London</p><p><a href="https://
 www.biicl.org/events/11793/annual-grotius-lecture-2023-immunity-and-interna
 tional-criminal-tribunals-in-person-participation?utm_content=buffer65e4d&u
 tm_medium=social&utm_source=twitter.com&utm_campaign=buffer&cookiesset=1&ts
 =1696405566">Annual Grotius Lecture 2023: Immunity and International Crimin
 al Tribunals (biicl.org)</a></p><p>[av_button label='iCal-Export' link='./f
 eed/eo-events' link_target='' size='small' position='center' label_display=
 '' title_attr='' icon_select='yes' icon='ue85b' font='entypo-fontello' colo
 r='custom' custom_bg='#b5123e' custom_font='#ffffff' av_uid='' id='' custom
 _class='' admin_preview_bg='']</p>
CATEGORIES:Europäisches / Internationales Recht
LOCATION:Ausland
GEO:0.000000;0.000000
ORGANIZER;CN="ViFa-Recht":MAILTO:vifa-recht@sbb.spk-berlin.de
URL;VALUE=URI:https://events.intrecht.de/termine/termin/immunity-and-intern
 ational-criminal-tribunals-annual-grotius-lecture-2023/
END:VEVENT
BEGIN:VTIMEZONE
TZID:Europe/Berlin
BEGIN:STANDARD
TZOFFSETFROM:+0200
TZOFFSETTO:+0100
DTSTART:20231029T010000
TZNAME:CET
END:STANDARD
END:VTIMEZONE
END:VCALENDAR
