BEGIN:VCALENDAR
VERSION:2.0
PRODID:-//Events | FID-Recht//NONSGML Events//EN
CALSCALE:GREGORIAN
X-ORIGINAL-URL:https://events.intrecht.de/termine/
X-WR-CALDESC:Events | FID-Recht - Events
BEGIN:VEVENT
UID:20220103T0228Z-1641176891.7084-EO-5539-1@172.16.200.141
STATUS:CONFIRMED
DTSTAMP:20260421T102858Z
CREATED:20211216T114507Z
LAST-MODIFIED:20211216T114507Z
DTSTART;VALUE=DATE:20220624
DTEND;VALUE=DATE:20220626
SUMMARY: Immaterialgüter und Medien im Binnenmarkt – Europäisierung des Rec
 hts und ihre Grenzen (GRUR Junge Wissenschaft) (Tagung)
DESCRIPTION: 24.-25.6.2022\, Bonn (Frist für Einreichungen: 18.3.2022) http
 s://www.jura.uni-bonn.de/lehrstuhl-prof-dr-specht/7-grur-tagung-junge-wisse
 nschaft/  
X-ALT-DESC;FMTTYPE=text/html: <p>24.-25.6.2022\, Bonn (Frist für Einreichun
 gen: 18.3.2022)</p><p><a href="https://www.jura.uni-bonn.de/lehrstuhl-prof-
 dr-specht/7-grur-tagung-junge-wissenschaft/">https://www.jura.uni-bonn.de/l
 ehrstuhl-prof-dr-specht/7-grur-tagung-junge-wissenschaft/</a></p><p> </p><p
 >[av_button label='iCal-Export' link='./feed/eo-events' link_target='' size
 ='small' position='center' label_display='' title_attr='' icon_select='yes'
  icon='ue85b' font='entypo-fontello' color='custom' custom_bg='#b5123e' cus
 tom_font='#ffffff' av_uid='' id='' custom_class='' admin_preview_bg='']</p>
CATEGORIES:Europäisches / Internationales Recht,Zivilrecht
LOCATION:Inland
GEO:0.000000;0.000000
ORGANIZER;CN="ViFa-Recht":MAILTO:vifa-recht@sbb.spk-berlin.de
URL;VALUE=URI:https://events.intrecht.de/termine/termin/immaterialgueter-un
 d-medien-im-binnenmarkt-europaeisierung-des-rechts-und-ihre-grenzen-grur-ju
 nge-wissenschaft-tagung/
END:VEVENT
BEGIN:VTIMEZONE
TZID:Europe/Berlin
BEGIN:DAYLIGHT
TZOFFSETFROM:+0100
TZOFFSETTO:+0200
DTSTART:20220327T010000
TZNAME:CEST
END:DAYLIGHT
END:VTIMEZONE
END:VCALENDAR
