BEGIN:VCALENDAR
VERSION:2.0
PRODID:-//Events | FID-Recht//NONSGML Events//EN
CALSCALE:GREGORIAN
X-ORIGINAL-URL:https://events.intrecht.de/termine/
X-WR-CALDESC:Events | FID-Recht - Events
BEGIN:VEVENT
UID:20200603T1418Z-1591193923.3362-EO-587-1@172.16.200.141
STATUS:CONFIRMED
DTSTAMP:20260425T211642Z
CREATED:20230906T131549Z
LAST-MODIFIED:20230906T131549Z
DTSTART;VALUE=DATE:20230915
DTEND;VALUE=DATE:20230916
SUMMARY: Imagining Peace in the Long Nineteenth Century (1789–1914). In Sea
 rch of New Actors and Vocabularies (International Conference)
DESCRIPTION: 15.9.2023 / Brüssel https://www.hsfk.de/veranstaltungen/verans
 taltung/news/imagining-peace-in-the-long-nineteenth-century-1789-1914
X-ALT-DESC;FMTTYPE=text/html: <p>15.9.2023 / Brüssel</p><p><a href="https:/
 /www.hsfk.de/veranstaltungen/veranstaltung/news/imagining-peace-in-the-long
 -nineteenth-century-1789-1914">https://www.hsfk.de/veranstaltungen/veransta
 ltung/news/imagining-peace-in-the-long-nineteenth-century-1789-1914</a></p>
 <p>[av_button label='iCal-Export' link='./feed/eo-events' link_target='' si
 ze='small' position='center' label_display='' title_attr='' icon_select='ye
 s' icon='ue85b' font='entypo-fontello' color='custom' custom_bg='#b5123e' c
 ustom_font='#ffffff' av_uid='' id='' custom_class='' admin_preview_bg='']</
 p>
CATEGORIES:Recht interdisziplinär
LOCATION:Ausland
GEO:0.000000;0.000000
ORGANIZER;CN="ViFa-Recht":MAILTO:vifa-recht@sbb.spk-berlin.de
URL;VALUE=URI:https://events.intrecht.de/termine/termin/imagining-peace-in-
 the-long-nineteenth-century-1789-1914-in-search-of-new-actors-and-vocabular
 ies-international-conference/
END:VEVENT
BEGIN:VTIMEZONE
TZID:Europe/Berlin
BEGIN:DAYLIGHT
TZOFFSETFROM:+0100
TZOFFSETTO:+0200
DTSTART:20230326T010000
TZNAME:CEST
END:DAYLIGHT
END:VTIMEZONE
END:VCALENDAR
