BEGIN:VCALENDAR
VERSION:2.0
PRODID:-//Events | FID-Recht//NONSGML Events//EN
CALSCALE:GREGORIAN
X-ORIGINAL-URL:https://events.intrecht.de/termine/
X-WR-CALDESC:Events | FID-Recht - Events
BEGIN:VEVENT
UID:20211206T1736Z-1638812160.409-EO-5406-1@172.16.200.141
STATUS:CONFIRMED
DTSTAMP:20260423T022041Z
CREATED:20211130T190218Z
LAST-MODIFIED:20211130T190218Z
DTSTART;VALUE=DATE:20211209
DTEND;VALUE=DATE:20211210
SUMMARY: Illegitimate Clergy in the Middle Ages\, or: how does an exception
  become the rule? (mit Clara Harder) (Vortrag)
DESCRIPTION: 9.12.2021\, Münster EViR – Fellow Lectures (uni-muenster.de)  
X-ALT-DESC;FMTTYPE=text/html: <p>9.12.2021\, Münster</p><p><a href="https:/
 /www.uni-muenster.de/EViR/veranstaltungen/fellowlectures.html">EViR - Fello
 w Lectures (uni-muenster.de)</a></p><p> </p><p>[av_button label='iCal-Expor
 t' link='./feed/eo-events' link_target='' size='small' position='center' la
 bel_display='' title_attr='' icon_select='yes' icon='ue85b' font='entypo-fo
 ntello' color='custom' custom_bg='#b5123e' custom_font='#ffffff' av_uid='' 
 id='' custom_class='' admin_preview_bg='']</p>
CATEGORIES:Recht interdisziplinär
LOCATION:Inland
GEO:0.000000;0.000000
ORGANIZER;CN="ViFa-Recht":MAILTO:vifa-recht@sbb.spk-berlin.de
URL;VALUE=URI:https://events.intrecht.de/termine/termin/illegitimate-clergy
 -in-the-middle-ages-or-how-does-an-exception-become-the-rule-mit-clara-hard
 er-vortrag/
END:VEVENT
BEGIN:VTIMEZONE
TZID:Europe/Berlin
BEGIN:STANDARD
TZOFFSETFROM:+0200
TZOFFSETTO:+0100
DTSTART:20211031T010000
TZNAME:CET
END:STANDARD
END:VTIMEZONE
END:VCALENDAR
