BEGIN:VCALENDAR
VERSION:2.0
PRODID:-//Events | FID-Recht//NONSGML Events//EN
CALSCALE:GREGORIAN
X-ORIGINAL-URL:https://events.intrecht.de/termine/
X-WR-CALDESC:Events | FID-Recht - Events
BEGIN:VEVENT
UID:20220416T0901Z-1650099682.5689-EO-6567-1@172.16.200.141
STATUS:CONFIRMED
DTSTAMP:20260420T111932Z
CREATED:20220405T101126Z
LAST-MODIFIED:20220405T101126Z
DTSTART;VALUE=DATE:20221012
DTEND;VALUE=DATE:20221015
SUMMARY: (Il)legalität militärischer Gewalt – Aushandlung der Verhältnismäß
 igkeit zwischen militärischer Möglichkeit und Notwendigkeit (61. Internatio
 nale Tagung für Militärgeschichte (ITMG)) (Online-Tagung)
DESCRIPTION: 12.-14.10.2022\, Online  (Anmeldefrist: 30.9.2022) (Il)legalit
 ät militärischer Gewalt (bundeswehr.de)  
X-ALT-DESC;FMTTYPE=text/html: <p>12.-14.10.2022\, Online  (Anmeldefrist: 30
 .9.2022)</p><p><a href="https://www.bundeswehr.de/de/organisation/weitere-b
 mvg-dienststellen/zentrum-militaergeschichte-sozialwissenschaften/zmsbw-ver
 anstaltung-itmg-2022-gewalt-5374524">(Il)legalität militärischer Gewalt (bu
 ndeswehr.de)</a></p><p> </p><p>[av_button label='iCal-Export' link='./feed/
 eo-events' link_target='' size='small' position='center' label_display='' t
 itle_attr='' icon_select='yes' icon='ue85b' font='entypo-fontello' color='c
 ustom' custom_bg='#b5123e' custom_font='#ffffff' av_uid='' id='' custom_cla
 ss='' admin_preview_bg='']</p>
CATEGORIES:Europäisches / Internationales Recht,Recht interdisziplinär
LOCATION:Online
GEO:0.000000;0.000000
ORGANIZER;CN="ViFa-Recht":MAILTO:vifa-recht@sbb.spk-berlin.de
URL;VALUE=URI:https://events.intrecht.de/termine/termin/illegalitaet-milita
 erischer-gewalt-aushandlung-der-verhaeltnismaessigkeit-zwischen-militaerisc
 her-moeglichkeit-und-notwendigkeit-61-internationale-tagung-fuer-militaerge
 schichte-itmg/
END:VEVENT
BEGIN:VTIMEZONE
TZID:Europe/Berlin
BEGIN:DAYLIGHT
TZOFFSETFROM:+0100
TZOFFSETTO:+0200
DTSTART:20220327T010000
TZNAME:CEST
END:DAYLIGHT
END:VTIMEZONE
END:VCALENDAR
