BEGIN:VCALENDAR
VERSION:2.0
PRODID:-//Events | FID-Recht//NONSGML Events//EN
CALSCALE:GREGORIAN
X-ORIGINAL-URL:https://events.intrecht.de/termine/
X-WR-CALDESC:Events | FID-Recht - Events
BEGIN:VEVENT
UID:20200603T1418Z-1591193923.3362-EO-587-1@172.16.200.141
STATUS:CONFIRMED
DTSTAMP:20260425T151012Z
CREATED:20230425T093847Z
LAST-MODIFIED:20230425T093847Z
DTSTART;VALUE=DATE:20230503
DTEND;VALUE=DATE:20230504
SUMMARY: “Ideology” vs. equality: The (preventive) constitutionalisation of
  gender in Bulgaria (Vortrag)
DESCRIPTION: 3.5.2023 / Online https://www.hertie-school.org/en/events/even
 t-detail/event/ideology-vs-equality-the-preventive-constitutionalisation-of
 -gender-in-bulgaria
X-ALT-DESC;FMTTYPE=text/html: <p>3.5.2023 / Online</p><p><a href="https://w
 ww.hertie-school.org/en/events/event-detail/event/ideology-vs-equality-the-
 preventive-constitutionalisation-of-gender-in-bulgaria">https://www.hertie-
 school.org/en/events/event-detail/event/ideology-vs-equality-the-preventive
 -constitutionalisation-of-gender-in-bulgaria</a></p><p>[av_button label='iC
 al-Export' link='./feed/eo-events' link_target='' size='small' position='ce
 nter' label_display='' title_attr='' icon_select='yes' icon='ue85b' font='e
 ntypo-fontello' color='custom' custom_bg='#b5123e' custom_font='#ffffff' av
 _uid='' id='' custom_class='' admin_preview_bg='']</p>
CATEGORIES:Recht interdisziplinär
LOCATION:Online
GEO:0.000000;0.000000
ORGANIZER;CN="ViFa-Recht":MAILTO:vifa-recht@sbb.spk-berlin.de
URL;VALUE=URI:https://events.intrecht.de/termine/termin/ideology-vs-equalit
 y-the-preventive-constitutionalisation-of-gender-in-bulgaria-vortrag/
END:VEVENT
BEGIN:VTIMEZONE
TZID:Europe/Berlin
BEGIN:DAYLIGHT
TZOFFSETFROM:+0100
TZOFFSETTO:+0200
DTSTART:20230326T010000
TZNAME:CEST
END:DAYLIGHT
END:VTIMEZONE
END:VCALENDAR
