BEGIN:VCALENDAR
VERSION:2.0
PRODID:-//Events | FID-Recht//NONSGML Events//EN
CALSCALE:GREGORIAN
X-ORIGINAL-URL:https://events.intrecht.de/termine/
X-WR-CALDESC:Events | FID-Recht - Events
BEGIN:VEVENT
UID:20220211T1544Z-1644594286.4071-EO-5684-1@172.16.200.141
STATUS:CONFIRMED
DTSTAMP:20260421T102718Z
CREATED:20220207T172828Z
LAST-MODIFIED:20220207T172828Z
DTSTART;VALUE=DATE:20220220
DTEND;VALUE=DATE:20220220
SUMMARY: ICON-S Great Britain and Ireland Chapter conference – “The Constit
 utional Architecture of these Islands” (Online-Tagung) (CfP)
DESCRIPTION: 26.-28.4.2022\, Online (Frist für Einreichungen: 20.2.2022) IC
 ON-S Great Britain and Ireland Chapter CFP – The Constitutional Architectur
 e of these Islands | ICON-S (icon-society.org)  
X-ALT-DESC;FMTTYPE=text/html: <p>26.-28.4.2022\, Online (Frist für Einreich
 ungen: 20.2.2022)</p><p><a href="https://www.icon-society.org/news/icon-s-g
 reat-britain-and-ireland-chapter-cfp-the-constitutional-architecture-of-the
 se-islands/">ICON-S Great Britain and Ireland Chapter CFP – The Constitutio
 nal Architecture of these Islands | ICON-S (icon-society.org)</a></p><p> </
 p><p>[av_button label='iCal-Export' link='./feed/eo-events' link_target='' 
 size='small' position='center' label_display='' title_attr='' icon_select='
 yes' icon='ue85b' font='entypo-fontello' color='custom' custom_bg='#b5123e'
  custom_font='#ffffff' av_uid='' id='' custom_class='' admin_preview_bg='']
 </p>
CATEGORIES:Öffentliches Recht
LOCATION:Online
GEO:0.000000;0.000000
ORGANIZER;CN="ViFa-Recht":MAILTO:vifa-recht@sbb.spk-berlin.de
URL;VALUE=URI:https://events.intrecht.de/termine/termin/icon-s-great-britai
 n-and-ireland-chapter-conference-the-constitutional-architecture-of-these-i
 slands-online-tagung-cfp/
END:VEVENT
BEGIN:VTIMEZONE
TZID:Europe/Berlin
BEGIN:STANDARD
TZOFFSETFROM:+0200
TZOFFSETTO:+0100
DTSTART:20211031T010000
TZNAME:CET
END:STANDARD
END:VTIMEZONE
END:VCALENDAR
