BEGIN:VCALENDAR
VERSION:2.0
PRODID:-//Events | FID-Recht//NONSGML Events//EN
CALSCALE:GREGORIAN
X-ORIGINAL-URL:https://events.intrecht.de/termine/
X-WR-CALDESC:Events | FID-Recht - Events
BEGIN:VEVENT
UID:20200813T0048Z-1597279689.5696-EO-1266-1@172.16.200.141
STATUS:CONFIRMED
DTSTAMP:20260421T102717Z
CREATED:20200730T195826Z
LAST-MODIFIED:20200730T195826Z
DTSTART;VALUE=DATE:20200815
DTEND;VALUE=DATE:20200815
SUMMARY: ICON-S Deutschland Works-in-Progress Workshop für Nachwuchswissens
 chaftler/innen (Call for Abstracts)
DESCRIPTION: 8.-9.10.2020\, Online (Frist für Einreichungen: 15.8.2020) htt
 ps://sites.google.com/view/icon-s-germany/home    
X-ALT-DESC;FMTTYPE=text/html: <p>8.-9.10.2020\, Online (Frist für Einreichu
 ngen: 15.8.2020)</p><p><a href="https://sites.google.com/view/icon-s-german
 y/home">https://sites.google.com/view/icon-s-germany/home</a></p><p> </p><p
 > </p><p>[av_button label='iCal-Export' link='./feed/eo-events' link_target
 ='' size='small' position='center' label_display='' title_attr='' icon_sele
 ct='yes' icon='ue85b' font='entypo-fontello' color='custom' custom_bg='#b51
 23e' custom_font='#ffffff' av_uid='' id='' custom_class='' admin_preview_bg
 ='']</p>
CATEGORIES:Europäisches / Internationales Recht,Öffentliches Recht,Recht interdisziplinär
LOCATION:Online
GEO:0.000000;0.000000
ORGANIZER;CN="ViFa-Recht":MAILTO:vifa-recht@sbb.spk-berlin.de
URL;VALUE=URI:https://events.intrecht.de/termine/termin/icon-s-deutschland-
 works-in-progress-workshop-fuer-nachwuchswissenschaftler-innen-call-for-abs
 tracts/
END:VEVENT
BEGIN:VTIMEZONE
TZID:Europe/Berlin
BEGIN:DAYLIGHT
TZOFFSETFROM:+0100
TZOFFSETTO:+0200
DTSTART:20200329T010000
TZNAME:CEST
END:DAYLIGHT
END:VTIMEZONE
END:VCALENDAR
