BEGIN:VCALENDAR
VERSION:2.0
PRODID:-//Events | FID-Recht//NONSGML Events//EN
CALSCALE:GREGORIAN
X-ORIGINAL-URL:https://events.intrecht.de/termine/
X-WR-CALDESC:Events | FID-Recht - Events
BEGIN:VEVENT
UID:20220403T0116Z-1648948587.172-EO-6474-1@172.16.200.141
STATUS:CONFIRMED
DTSTAMP:20260421T102540Z
CREATED:20220401T135159Z
LAST-MODIFIED:20220401T135419Z
DTSTART;TZID=Europe/Berlin:20220502T180000
DTEND;TZID=Europe/Berlin:20220502T191500
SUMMARY: ICON-S Book Spot zu Kulick/Vasel „Das konservative Gericht“ (Onlin
 e-Buchvorstellung)
DESCRIPTION: 9.5.2022\, Online ICON-S Deutschland – Aktuelles / Current eve
 nts (google.com)  
X-ALT-DESC;FMTTYPE=text/html: <p>9.5.2022\, Online</p><p><a href="https://s
 ites.google.com/view/icon-s-germany/aktuelles-current-events?authuser=0">IC
 ON-S Deutschland - Aktuelles / Current events (google.com)</a></p><p> </p><
 p>[av_button label='iCal-Export' link='./feed/eo-events' link_target='' siz
 e='small' position='center' label_display='' title_attr='' icon_select='yes
 ' icon='ue85b' font='entypo-fontello' color='custom' custom_bg='#b5123e' cu
 stom_font='#ffffff' av_uid='' id='' custom_class='' admin_preview_bg='']</p
 >
CATEGORIES:Öffentliches Recht
LOCATION:Online
GEO:0.000000;0.000000
ORGANIZER;CN="Frontend-Submission":MAILTO:florian.schwalenberg@sbb.spk-berl
 in.de
URL;VALUE=URI:https://events.intrecht.de/termine/termin/icon-s-book-spot-zu
 -kulick-vasel-das-konservative-gericht-online-buchvorstellung/
END:VEVENT
BEGIN:VTIMEZONE
TZID:Europe/Berlin
BEGIN:DAYLIGHT
TZOFFSETFROM:+0100
TZOFFSETTO:+0200
DTSTART:20220327T010000
TZNAME:CEST
END:DAYLIGHT
END:VTIMEZONE
END:VCALENDAR
