BEGIN:VCALENDAR
VERSION:2.0
PRODID:-//Events | FID-Recht//NONSGML Events//EN
CALSCALE:GREGORIAN
X-ORIGINAL-URL:https://events.intrecht.de/termine/
X-WR-CALDESC:Events | FID-Recht - Events
BEGIN:VEVENT
UID:20200709T1336Z-1594301783.4365-EO-1187-1@172.16.200.141
STATUS:CONFIRMED
DTSTAMP:20260421T115342Z
CREATED:20200708T175446Z
LAST-MODIFIED:20200708T175521Z
DTSTART;VALUE=DATE:20200710
DTEND;VALUE=DATE:20200710
SUMMARY: ICON·S Book Prize Award Ceremony
DESCRIPTION: 10.7.2020\, 14 Uhr\, Online https://www.icon-society.org/book-
 prize/  
X-ALT-DESC;FMTTYPE=text/html: <p>10.7.2020\, 14 Uhr\, Online</p><p><a href=
 "https://www.icon-society.org/book-prize/">https://www.icon-society.org/boo
 k-prize/</a></p><p> </p><p>[av_button label='iCal-Export' link='./feed/eo-e
 vents' link_target='' size='small' position='center' label_display='' title
 _attr='' icon_select='yes' icon='ue85b' font='entypo-fontello' color='custo
 m' custom_bg='#b5123e' custom_font='#ffffff' av_uid='' id='' custom_class='
 ' admin_preview_bg='']</p>
CATEGORIES:Öffentliches Recht
LOCATION:Online
GEO:0.000000;0.000000
ORGANIZER;CN="ViFa-Recht":MAILTO:vifa-recht@sbb.spk-berlin.de
URL;VALUE=URI:https://events.intrecht.de/termine/termin/icon%c2%b7s-book-pr
 ize-award-ceremony/
END:VEVENT
BEGIN:VTIMEZONE
TZID:Europe/Berlin
BEGIN:DAYLIGHT
TZOFFSETFROM:+0100
TZOFFSETTO:+0200
DTSTART:20200329T010000
TZNAME:CEST
END:DAYLIGHT
END:VTIMEZONE
END:VCALENDAR
