BEGIN:VCALENDAR
VERSION:2.0
PRODID:-//Events | FID-Recht//NONSGML Events//EN
CALSCALE:GREGORIAN
X-ORIGINAL-URL:https://events.intrecht.de/termine/
X-WR-CALDESC:Events | FID-Recht - Events
BEGIN:VEVENT
UID:20200603T1418Z-1591193923.3362-EO-587-1@172.16.200.141
STATUS:CONFIRMED
DTSTAMP:20260425T132441Z
CREATED:20230419T085934Z
LAST-MODIFIED:20230419T085934Z
DTSTART;VALUE=DATE:20230615
DTEND;VALUE=DATE:20230617
SUMMARY: IACL (International Association of Constitutional Law) Roundtable:
  The Principle of Equality. New and Old Challenges
DESCRIPTION: 15.-16.6.2023 / Siena https://www.iacl-aidc.org/index.php/en/e
 vents/forthcoming-events/374-iacl-roundtable-the-principle-of-equality-new-
 and-old-challenges
X-ALT-DESC;FMTTYPE=text/html: <p>15.-16.6.2023 / Siena</p><p><a href="https
 ://www.iacl-aidc.org/index.php/en/events/forthcoming-events/374-iacl-roundt
 able-the-principle-of-equality-new-and-old-challenges">https://www.iacl-aid
 c.org/index.php/en/events/forthcoming-events/374-iacl-roundtable-the-princi
 ple-of-equality-new-and-old-challenges</a></p><p>[av_button label='iCal-Exp
 ort' link='./feed/eo-events' link_target='' size='small' position='center' 
 label_display='' title_attr='' icon_select='yes' icon='ue85b' font='entypo-
 fontello' color='custom' custom_bg='#b5123e' custom_font='#ffffff' av_uid='
 ' id='' custom_class='' admin_preview_bg='']</p>
CATEGORIES:Öffentliches Recht
LOCATION:Ausland
GEO:0.000000;0.000000
ORGANIZER;CN="ViFa-Recht":MAILTO:vifa-recht@sbb.spk-berlin.de
URL;VALUE=URI:https://events.intrecht.de/termine/termin/iacl-international-
 association-of-constitutional-law-roundtable-the-principle-of-equality-new-
 and-old-challenges/
END:VEVENT
BEGIN:VTIMEZONE
TZID:Europe/Berlin
BEGIN:DAYLIGHT
TZOFFSETFROM:+0100
TZOFFSETTO:+0200
DTSTART:20230326T010000
TZNAME:CEST
END:DAYLIGHT
END:VTIMEZONE
END:VCALENDAR
